BEGIN:VCALENDAR
VERSION:2.0
PRODID:-//ChamberMaster//Event Calendar 2.0//EN
METHOD:PUBLISH
X-PUBLISHED-TTL:P3D
REFRESH-INTERVAL:P3D
CALSCALE:GREGORIAN
BEGIN:VEVENT
DTSTART:20240427T113000Z
DTEND:20240427T143000Z
X-MICROSOFT-CDO-ALLDAYEVENT:FALSE
SUMMARY:Bethany Beach Vol Fire Co Auxiliary Pancake Breakfast
DESCRIPTION:Please join the BBVFC Auxiliary at The Salted Rim in Millville\, DE for a breakfast of pancakes\, pork sausage\, eggs\, assorted muffins\, coffee\, tea\, iced tea and OJ.  All proceeds benefit the BBVFC.
X-ALT-DESC;FMTTYPE=text/html:Please join the BBVFC Auxiliary at The Salted Rim in Millville\, DE for a breakfast of pancakes\, pork sausage\, eggs\, assorted muffins\, coffee\, tea\, iced tea and OJ.&nbsp\; All proceeds benefit the BBVFC.&nbsp\;&nbsp\;
LOCATION:The Salted Rim 35553 Atlantic Avenue Millville\, DE 19967
UID:e.2126.28528
SEQUENCE:3
DTSTAMP:20260420T060257Z
URL:http://business.thequietresorts.com/events/details/bethany-beach-vol-fire-co-auxiliary-pancake-breakfast-28528
END:VEVENT

END:VCALENDAR
