BEGIN:VCALENDAR
VERSION:2.0
PRODID:-//ChamberMaster//Event Calendar 2.0//EN
METHOD:PUBLISH
X-PUBLISHED-TTL:P3D
REFRESH-INTERVAL:P3D
CALSCALE:GREGORIAN
BEGIN:VEVENT
DTSTART:20220604T140000Z
DTEND:20220604T210000Z
X-MICROSOFT-CDO-ALLDAYEVENT:FALSE
SUMMARY:Bethany Beach Seaside Craft Show
DESCRIPTION:The Bethany Beach Seaside Craft Show returns for 2022 on Saturday\, June 4th.  Shoppers can purchase jewelry\, pottery\, home d cor\, glass\, woodwork\, and more from juried vendors.  Sponsored by the Cultural and Historical Affairs Committee\, the show will feature over 100 fine crafters along the boardwalk\, bandstand area\, Garfield Parkway\, and Parkwood Street.  Due to an increased number of vendors\, the show has been expanded to include Hollywood Street.  Vendors come from all over the country.  Some are returning favorites and others are brand new to the show.  Notes on the Beach will perform jazz standards from 11:00 ? 4:00 on the bandstand.   \n\nThis is a rain or shine event.  All weather announcements regarding the show will be made on the Town?s website:  www.townofbethanybeach.com under Activities\, Seaside Craft Show.
X-ALT-DESC;FMTTYPE=text/html:The Bethany Beach Seaside Craft Show returns for 2022 on Saturday\, June 4th.&nbsp\; Shoppers can purchase jewelry\, pottery\, home d&eacute\;cor\, glass\, woodwork\, and more from juried vendors.&nbsp\; Sponsored by the Cultural and Historical Affairs Committee\, the show will feature over 100 fine crafters along the boardwalk\, bandstand area\, Garfield Parkway\, and Parkwood Street.&nbsp\; Due to an increased number of vendors\, the show has been expanded to include Hollywood Street.&nbsp\; Vendors come from all over the country.&nbsp\; Some are returning favorites and others are brand new to the show.&nbsp\; Notes on the Beach will perform jazz standards from 11:00 ? 4:00 on the bandstand.&nbsp\; &nbsp\;<br />\nThis is a rain or shine event.&nbsp\; All weather announcements regarding the show will be made on the Town?s website:&nbsp\; <a href="http://www.townofbethanybeach.com">www.townofbethanybeach.com</a> under Activities\, Seaside Craft Show.<br />\n&nbsp\;
LOCATION:Downtown Bethany Beach\, Delaware
UID:e.2126.23667
SEQUENCE:3
DTSTAMP:20260421T222859Z
URL:http://business.thequietresorts.com/events/details/bethany-beach-seaside-craft-show-06-04-2022-23667
END:VEVENT

END:VCALENDAR
