BEGIN:VCALENDAR
VERSION:2.0
PRODID:-//ChamberMaster//Event Calendar 2.0//EN
METHOD:PUBLISH
X-PUBLISHED-TTL:P3D
REFRESH-INTERVAL:P3D
CALSCALE:GREGORIAN
BEGIN:VEVENT
DTSTART:20200101T033000Z
DTEND:20200101T053000Z
X-MICROSOFT-CDO-ALLDAYEVENT:FALSE
SUMMARY:Bethany Beach Ocean Suites New Years Eve Ball Drop
DESCRIPTION:Ring in the New Year at Bethany Beach Ocean Suites! Join us for our annual party and enjoy a DJ & light show\, party favors and hot chocolate.\n\n\n\nNew Years Eve Packages Available\n\n\n\nStay with us and enjoy the private gala at 99 Sea Level
X-ALT-DESC;FMTTYPE=text/html:<span style="font-family: arial\;"><span style="color: rgb(29\, 33\, 41)\; text-transform: none\; text-indent: 0px\; letter-spacing: normal\; font-size: 14px\; font-style: normal\; font-weight: 400\; word-spacing: 0px\; float: none\; display: inline !important\; white-space: pre-wrap\; orphans: 2\; widows: 2\; background-color: rgb(255\, 255\, 255)\; font-variant-ligatures: normal\; font-variant-caps: normal\; -webkit-text-stroke-width: 0px\; text-decoration-style: initial\; text-decoration-color: initial\;">Ring in the New Year at Bethany Beach Ocean Suites! Join us for our annual party and enjoy a DJ &amp\; light show\, party favors and hot chocolate.<br />\n<br />\nNew Years Eve Packages Available<br />\n<br />\nStay with us and enjoy the private gala at 99 Sea Level</span></span>
LOCATION:Bethany Beach Ocean Suites 99 Hollywood St Bethany Beach\, DE 19930
UID:e.2126.19458
SEQUENCE:3
DTSTAMP:20260426T020834Z
URL:http://business.thequietresorts.com/events/details/bethany-beach-ocean-suites-new-years-eve-ball-drop-19458
END:VEVENT

END:VCALENDAR
