BEGIN:VCALENDAR
VERSION:2.0
PRODID:-//ChamberMaster//Event Calendar 2.0//EN
METHOD:PUBLISH
X-PUBLISHED-TTL:P3D
REFRESH-INTERVAL:P3D
CALSCALE:GREGORIAN
BEGIN:VEVENT
DTSTART:20230706T233000Z
DTEND:20230707T010000Z
X-MICROSOFT-CDO-ALLDAYEVENT:FALSE
SUMMARY:Bethany Beach July 4th Celebration Week - US Army Band Downrange
DESCRIPTION:Downrange supports the men and women of the Armed Services through popular music while reaching all audiences\, young and old\, with their continuously up-to-date repertoire of rock\, pop\, country\, R & B\, and inspirational signature patriotic arrangements that are popular with all listeners.
X-ALT-DESC;FMTTYPE=text/html:Downrange supports the men and women of the Armed Services through popular music while reaching all audiences\, young and old\, with their continuously up-to-date repertoire of rock\, pop\, country\, R &amp\; B\, and inspirational signature patriotic arrangements that are popular with all listeners.&nbsp\;
LOCATION:Bethany Beach Bandstand
UID:e.2126.25998
SEQUENCE:3
DTSTAMP:20260420T230119Z
URL:http://business.thequietresorts.com/events/details/bethany-beach-july-4th-celebration-week-us-army-band-downrange-25998
END:VEVENT

END:VCALENDAR
