BEGIN:VCALENDAR
VERSION:2.0
PRODID:-//ChamberMaster//Event Calendar 2.0//EN
METHOD:PUBLISH
X-PUBLISHED-TTL:P3D
REFRESH-INTERVAL:P3D
CALSCALE:GREGORIAN
BEGIN:VEVENT
DTSTART:20230705T230000Z
DTEND:20230706T000000Z
X-MICROSOFT-CDO-ALLDAYEVENT:FALSE
SUMMARY:Bethany Beach July 4th Celebration Week - The Little Mermen
DESCRIPTION:This is the ultimate Disney tribute concert for Disney fanatics of all ages. The band's repertoire covers nearly a century of musical canon\, including favorites from The Little Mermaid\, Mary Poppins\, Frozen\, and Encanto. The group performs in full costume with band members dressing up as characters from the films. They tour nationally and have recently shared festival stages with Stevie Nicks\, Green Day and Joan Jett. The Little Mermen invite you to be their guest for a magical experience jam-packed with nostalgic fun  and rockin' sing-alongs!
X-ALT-DESC;FMTTYPE=text/html:This is the ultimate Disney tribute concert for Disney fanatics of all ages. The band&rsquo\;s repertoire covers nearly a century of musical canon\, including favorites from The Little Mermaid\, Mary Poppins\, Frozen\, and Encanto. The group performs in full costume with band members dressing up as characters from the films. They tour nationally and have recently shared festival stages with Stevie Nicks\, Green Day and Joan Jett. The Little Mermen invite you to be their guest for a magical experience jam-packed with nostalgic fun &nbsp\;and rockin&rsquo\; sing-alongs!&nbsp\;
LOCATION:Bethany Beach Bandstand
UID:e.2126.25997
SEQUENCE:3
DTSTAMP:20260420T232711Z
URL:http://business.thequietresorts.com/events/details/bethany-beach-july-4th-celebration-week-the-little-mermen-25997
END:VEVENT

END:VCALENDAR
