BEGIN:VCALENDAR
VERSION:2.0
PRODID:-//ChamberMaster//Event Calendar 2.0//EN
METHOD:PUBLISH
X-PUBLISHED-TTL:P3D
REFRESH-INTERVAL:P3D
CALSCALE:GREGORIAN
BEGIN:VEVENT
DTSTART:20230705T220000Z
DTEND:20230705T223000Z
X-MICROSOFT-CDO-ALLDAYEVENT:FALSE
SUMMARY:Bethany Beach July 4th Celebration Week - Mr. Jon
DESCRIPTION:Mr. Jon & Friends makes music for kids and their families that inspires fun\, laughter\, and dancing. Mr. Jon plays over 200 shows a year for kids\, sharing the stage with bands like The Pop Ups and The Imagination Movers.  His act is an interactive musical comedy show for the whole family.
X-ALT-DESC;FMTTYPE=text/html:Mr. Jon &amp\; Friends makes music for kids and their families that inspires fun\, laughter\, and dancing. Mr. Jon plays over 200 shows a year for kids\, sharing the stage with bands like The Pop Ups and The Imagination Movers. &nbsp\;His act is an interactive musical comedy show for the whole family.&nbsp\;
LOCATION:Bethany Beach Bandstand
UID:e.2126.25996
SEQUENCE:3
DTSTAMP:20260420T230020Z
URL:http://business.thequietresorts.com/events/details/bethany-beach-july-4th-celebration-week-mr-jon-25996
END:VEVENT

END:VCALENDAR
