BEGIN:VCALENDAR
VERSION:2.0
PRODID:-//ChamberMaster//Event Calendar 2.0//EN
METHOD:PUBLISH
X-PUBLISHED-TTL:P3D
REFRESH-INTERVAL:P3D
CALSCALE:GREGORIAN
BEGIN:VEVENT
DTSTART:20230704T233000Z
DTEND:20230705T010000Z
X-MICROSOFT-CDO-ALLDAYEVENT:FALSE
SUMMARY:Bethany Beach July 4th Celebration Week - Mike Hines & The Look
DESCRIPTION:Mike Hines\, also known as Mike Hines &The Look\, is a high energy dance band that plays R&B\, hip hop\, pop\, old school funk along with a small taste of Motown and disco. This band always gets the crowd involved and performs like there's no tomorrow. They're the ultimate party band. When they play\, nobody sits down.  \n\nThe Independence Day fireworks will follow their performance.
X-ALT-DESC;FMTTYPE=text/html:<p>Mike Hines\, also known as Mike Hines &amp\;The Look\, is a high energy dance band that plays R&amp\;B\, hip hop\, pop\, old school funk along with a small taste of Motown and disco. This band always gets the crowd involved and performs like there&rsquo\;s no tomorrow. They&rsquo\;re the ultimate party band. When they play\, nobody sits down. &nbsp\;</p>\n\n<p>The Independence Day fireworks will follow their performance.</p>\n
LOCATION:Bethany Beach Bandstand
UID:e.2126.25995
SEQUENCE:3
DTSTAMP:20260420T230328Z
URL:http://business.thequietresorts.com/events/details/bethany-beach-july-4th-celebration-week-mike-hines-the-look-25995
END:VEVENT

END:VCALENDAR
