BEGIN:VCALENDAR
VERSION:2.0
PRODID:-//ChamberMaster//Event Calendar 2.0//EN
METHOD:PUBLISH
X-PUBLISHED-TTL:P3D
REFRESH-INTERVAL:P3D
CALSCALE:GREGORIAN
BEGIN:VEVENT
DTSTART:20230702T233000Z
DTEND:20230703T010000Z
X-MICROSOFT-CDO-ALLDAYEVENT:FALSE
SUMMARY:Bethany Beach July 4th Celebration Week - 287th Army Band
DESCRIPTION:The 287th Army Band's concert band offers a variety of music including well-known marches and Americana music.  You'll also hear popular tunes and some Dixieland brass fun for everyone. The 287th is one of the marching bands featured in the Bethany Beach Fourth of July parade.  Be sure to cheer them on!
X-ALT-DESC;FMTTYPE=text/html:The 287th Army Band&rsquo\;s concert band offers a variety of music including well-known marches and Americana music. &nbsp\;You&rsquo\;ll also hear popular tunes and some Dixieland brass fun for everyone. The 287th is one of the marching bands featured in the Bethany Beach Fourth of July parade. &nbsp\;Be sure to cheer them on!
LOCATION:Bethany Beach Bandstand
UID:e.2126.25990
SEQUENCE:3
DTSTAMP:20260421T004707Z
URL:http://business.thequietresorts.com/events/details/bethany-beach-july-4th-celebration-week-287th-army-band-25990
END:VEVENT

END:VCALENDAR
