BEGIN:VCALENDAR
VERSION:2.0
PRODID:-//ChamberMaster//Event Calendar 2.0//EN
METHOD:PUBLISH
X-PUBLISHED-TTL:P3D
REFRESH-INTERVAL:P3D
CALSCALE:GREGORIAN
BEGIN:VEVENT
DTSTART:20240609T120000Z
DTEND:20240609T160000Z
X-MICROSOFT-CDO-ALLDAYEVENT:FALSE
SUMMARY:Bethany Beach Farmers' Market
DESCRIPTION:The Bethany Beach Farmers' Market is back for the summer season!  On Sundays from 8:00AM - 12:00PM\, June 2nd - September 1st\, the market will be open on the corner of Garfield Parkway and Pennsylvania Avenue in downtown Bethany Beach. \n\n\n\nFor more information on vendors visit the Bethany Beach Farmers' Market website.
X-ALT-DESC;FMTTYPE=text/html:The Bethany Beach Farmers&#39\; Market is back for the summer season!&nbsp\; On Sundays from 8:00AM - 12:00PM\, June 2nd - September 1st\, the market will be open on the corner of Garfield Parkway and Pennsylvania Avenue in downtown Bethany Beach.&nbsp\;<br />\n<br />\nFor more information on vendors visit the <a href="https://bethanybeachfarmersmarket.com/">Bethany Beach Farmers&#39\; Market website.</a>
LOCATION:Downtown Bethany Beach Corner of Garfield Pkwy. & Pennsylvania Ave.
UID:e.2126.30043
SEQUENCE:3
DTSTAMP:20260420T091354Z
URL:http://business.thequietresorts.com/events/details/bethany-beach-farmers-market-06-09-2024-30043
END:VEVENT

END:VCALENDAR
