BEGIN:VCALENDAR
VERSION:2.0
PRODID:-//ChamberMaster//Event Calendar 2.0//EN
METHOD:PUBLISH
X-PUBLISHED-TTL:P3D
REFRESH-INTERVAL:P3D
CALSCALE:GREGORIAN
BEGIN:VEVENT
DTSTART:20230327T123000Z
DTEND:20230327T133000Z
X-MICROSOFT-CDO-ALLDAYEVENT:FALSE
SUMMARY:Bethany Beach Business Forum
DESCRIPTION:The Bethany-Fenwick Area Chamber invites Bethany Beach businesses to attend a morning business meeting hosted by Bethany Blues BBQ on Monday\, March 27th.  If you cannot attend\, you are welcome to send a business representive in your place\, as we will discuss spring initiatives and begin to look forward to fall programming.
X-ALT-DESC;FMTTYPE=text/html:The Bethany-Fenwick Area Chamber invites Bethany Beach businesses to attend a morning business meeting hosted by Bethany Blues BBQ on Monday\, March 27th.&nbsp\; If you cannot attend\, you are welcome to send a business representive in your place\, as we will discuss spring initiatives and begin to look forward to fall programming.&nbsp\;
LOCATION:Bethany Blues BBQ 6 N. Pennsylvania Ave. Bethany Beach\, DE 19930
UID:e.2126.25242
SEQUENCE:3
DTSTAMP:20260421T074445Z
URL:http://business.thequietresorts.com/events/details/bethany-beach-business-forum-03-27-2023-25242
END:VEVENT

END:VCALENDAR
