BEGIN:VCALENDAR
VERSION:2.0
PRODID:-//ChamberMaster//Event Calendar 2.0//EN
METHOD:PUBLISH
X-PUBLISHED-TTL:P3D
REFRESH-INTERVAL:P3D
CALSCALE:GREGORIAN
BEGIN:VEVENT
DTSTART:20200509T130000Z
DTEND:20200509T150000Z
X-MICROSOFT-CDO-ALLDAYEVENT:FALSE
SUMMARY:Bethany Beach Breast Cancer Fun Run/Walk: Kentucky Derby: Run for the Roses
DESCRIPTION:Please join us on our annual 5K Run/3K Walk on Saturday\, May 9th.  This year's theme is Kentucky Derby: Run for the Roses?  This is an annual\, untimed event.  We are a grass roots\, low tech\, low key\, no frills organization --  we are about the cause\, not the swag!  \n\n\n\nStylish hats\, dapper bow ties\, flirty fascinators  and festive frocks are encouraged!  Come as a horse\, a jockey\, or as a mint julep!\n\n\n\nBring your friends and family and enjoy a wonderful event in beautiful downtown Bethany Beach.  You can even bring your 4-legged leashed friends.  The more the merrier!  There will be prizes for the most spirited costumes.\n\n\n\nFor more information\, go to www.bb5krun.com
X-ALT-DESC;FMTTYPE=text/html:<span style="font-size: 14px\;"><span style="font-family: arial\;">Please join us on our annual 5K Run/3K Walk on Saturday\, May 9th.&nbsp\; This year&#39\;s theme is Kentucky Derby: Run for the Roses?&nbsp\; This is an annual\, untimed event.&nbsp\; We are a grass roots\, low tech\, low key\, no frills organization --&nbsp\; we are about the cause\, not the swag!&nbsp\;&nbsp\;<br />\n<br />\nStylish hats\, dapper bow ties\, flirty fascinators&nbsp\; and festive frocks are encouraged!&nbsp\; Come as a horse\, a jockey\, or as a mint julep!<br />\n<br />\nBring your friends and family and enjoy a wonderful event in beautiful downtown Bethany Beach.&nbsp\; You can even bring your 4-legged leashed friends.&nbsp\; The more the merrier!&nbsp\; There will be prizes for the most spirited costumes.<br />\n<br />\nFor more information\, go to www.bb5krun.com</span></span>
LOCATION:Downtown Bethany Beach Bandstand area
UID:e.2126.20277
SEQUENCE:3
DTSTAMP:20260425T194441Z
URL:http://business.thequietresorts.com/events/details/bethany-beach-breast-cancer-fun-run-walk-kentucky-derby-run-for-the-roses-20277
END:VEVENT

END:VCALENDAR
