BEGIN:VCALENDAR
VERSION:2.0
PRODID:-//ChamberMaster//Event Calendar 2.0//EN
METHOD:PUBLISH
X-PUBLISHED-TTL:P3D
REFRESH-INTERVAL:P3D
CALSCALE:GREGORIAN
BEGIN:VEVENT
DTSTART:20230616T233000Z
DTEND:20230617T010000Z
X-MICROSOFT-CDO-ALLDAYEVENT:FALSE
SUMMARY:Bethany Beach Bandstand - The Uptown Band
DESCRIPTION:Since 2006\, The Uptown Band has been an AWARD-WINNING PREMIER CHOICE as the featured act at over 2000 shows. Based in Reading\, PA\, the group has earned a solid reputation as one of the country's most versatile and respected live bands\, playing music from the '50s to today.
X-ALT-DESC;FMTTYPE=text/html:Since 2006\, The Uptown Band has been an AWARD-WINNING PREMIER CHOICE as the featured act at over 2000 shows. Based in Reading\, PA\, the group has earned a solid reputation as one of the country&#39\;s most versatile and respected live bands\, playing music from the &lsquo\;50s to today.&nbsp\;
LOCATION:Bethany Beach Bandstand
UID:e.2126.25351
SEQUENCE:3
DTSTAMP:20260421T004838Z
URL:http://business.thequietresorts.com/events/details/bethany-beach-bandstand-the-uptown-band-25351
END:VEVENT

END:VCALENDAR
