BEGIN:VCALENDAR
VERSION:2.0
PRODID:-//ChamberMaster//Event Calendar 2.0//EN
METHOD:PUBLISH
X-PUBLISHED-TTL:P3D
REFRESH-INTERVAL:P3D
CALSCALE:GREGORIAN
BEGIN:VEVENT
DTSTART:20230810T233000Z
DTEND:20230811T010000Z
X-MICROSOFT-CDO-ALLDAYEVENT:FALSE
SUMMARY:Bethany Beach Bandstand- The Jets
DESCRIPTION:The Jets is a high energy\, fully packed tribute to Sir Elton John\, featuring not only the hits but also rare favorites for the diehard fans. The Jets will take you on a musical journey from the Elton John Album to Too Low for Zero and beyond! \n\nGreat entertainment for people of any age and for those who may not even be that familiar with Elton John. Dance to the sounds of Baltimore's own piano man\, Josh Christina and some of the most talented musicians in the Baltimore/DC area. \n\nThe Jets\, led by Christina\, take their music and performances seriously. Christina is backed by band members who have toured the world\, appeared on national television\, secured brand endorsements and more. He himself has toured the states and abroad and has even performed on Ireland's "Late\, Late Show"! He has recorded four solo albums and recorded in both Nashville and Memphis\, working with the same producers and musicians that helped shape the iconic sounds of Dolly Parton\, Jerry Lee Lewis\, Charlie Rich\, Chuck Berry and more! The Jets are the real deal\; no gags\, no gimmicks\, no duck costumes (even though that's legendary). They are simply all about paying tribute to the music of Sir Elton John. Their mission: To faithfully recreate the sound of Elton in concert in the 21st century featuring the same high energy rocking piano and rocking band!\n\nThe Jets: The Music of Sir Elton John no imitations\, no gimmicks just the raw talent and energy Elton live!
X-ALT-DESC;FMTTYPE=text/html:<p><span style="font-size:14px\;"><span style="font-family:arial\;">The Jets is a high energy\, fully packed tribute to Sir Elton John\, featuring not only&nbsp\;the hits but also rare favorites for the diehard fans. The Jets will take you on a&nbsp\;musical journey from the Elton John Album to Too Low for Zero and beyond!&nbsp\;</span></span></p>\n\n<p><span style="font-size:14px\;"><span style="font-family:arial\;">Great entertainment for people of any age and for those who may not even be&nbsp\;that familiar with Elton John.&nbsp\;Dance to the sounds of Baltimore&rsquo\;s own piano man\, Josh Christina&nbsp\;and some of the most talented musicians in the Baltimore/DC area.&nbsp\;</span></span></p>\n\n<p><span style="font-size:14px\;"><span style="font-family:arial\;">The Jets\, led by Christina\, take their music and performances seriously. Christina is backed by band members who have toured the world\, appeared on national television\, secured brand endorsements and more. He himself has toured the states and abroad and has even performed on Ireland&rsquo\;s &ldquo\;Late\, Late Show&rdquo\;! He has recorded four solo albums and recorded in both Nashville and Memphis\, working with the same producers and musicians that helped shape the iconic sounds of&nbsp\;Dolly Parton\, Jerry Lee Lewis\, Charlie Rich\, Chuck Berry and more! The Jets are the real deal\; no gags\, no gimmicks\, no duck costumes (even though that&rsquo\;s legendary). They&nbsp\;are simply all about paying tribute to the music of&nbsp\;Sir Elton John. Their mission: To faithfully recreate the sound of Elton in concert in the 21st century featuring the same high energy rocking piano and rocking band!</span></span></p>\n\n<p><span style="font-size:14px\;"><span style="font-family:arial\;">The Jets: The Music of Sir Elton John&hellip\;no imitations\, no gimmicks&hellip\;just the raw talent and energy Elton live!</span></span></p>\n
LOCATION:Bethany Beach Bandstand
UID:e.2126.26396
SEQUENCE:3
DTSTAMP:20260420T213211Z
URL:http://business.thequietresorts.com/events/details/bethany-beach-bandstand-the-jets-26396
END:VEVENT

END:VCALENDAR
