BEGIN:VCALENDAR
VERSION:2.0
PRODID:-//ChamberMaster//Event Calendar 2.0//EN
METHOD:PUBLISH
X-PUBLISHED-TTL:P3D
REFRESH-INTERVAL:P3D
CALSCALE:GREGORIAN
BEGIN:VEVENT
DTSTART:20230601T233000Z
DTEND:20230602T010000Z
X-MICROSOFT-CDO-ALLDAYEVENT:FALSE
SUMMARY:Bethany Beach Bandstand- Rob Benton
DESCRIPTION:Rob Benton is a Boston musician and entertainer\, now based out of Key West. He appeared on NBC's America's Got Talent and tours worldwide. Don't miss this high-energy show!
X-ALT-DESC;FMTTYPE=text/html:Rob Benton is a Boston musician and entertainer\, now based out of Key West. He appeared on NBC&rsquo\;s America&rsquo\;s Got Talent and tours worldwide. Don&rsquo\;t miss this high-energy show!
LOCATION:Bethany Beach Bandstand Garfield Parkway & Boardwalk\, Bethany Beach
UID:e.2126.25349
SEQUENCE:3
DTSTAMP:20260421T022143Z
URL:http://business.thequietresorts.com/events/details/bethany-beach-bandstand-rob-benton-25349
END:VEVENT

END:VCALENDAR
