BEGIN:VCALENDAR
VERSION:2.0
PRODID:-//ChamberMaster//Event Calendar 2.0//EN
METHOD:PUBLISH
X-PUBLISHED-TTL:P3D
REFRESH-INTERVAL:P3D
CALSCALE:GREGORIAN
BEGIN:VEVENT
DTSTART:20230803T233000Z
DTEND:20230804T010000Z
X-MICROSOFT-CDO-ALLDAYEVENT:FALSE
SUMMARY:Bethany Beach Bandstand- Lower Case Blues
DESCRIPTION:Since 2003 Lower Case Blues has been giving Delaware and the tri-state area some of the best blends of blues and rock music.\n\nBlues is a genre which has been evolving and expanding since the early 1900's  Lower Case Blues plays a modern\, energetic style blues while still remaining true to its roots. Influences ranging from Hard Rockin Blues to New Orleans Funk with a mix of Jazz and Soul.Lower Case Blues is a group that thrives on improvisation and crowd response. Jake Banaszak's guitar style wails\, cries\, sings\, and shreds while BJ Muntz's soulful voice and funky bass lines will blow your mind!! The band has shared the stage with greats such as Buddy Guy\, Kenny Wayne Shepherd\, Los Lonely Boys\, Robert Randolph and was selected as Best Band in Delaware 2009 in Delaware Today Magazine.
X-ALT-DESC;FMTTYPE=text/html:<p>Since 2003 Lower Case Blues has been giving Delaware and the tri-state area some of the best blends of blues and rock music.</p>\n\n<p>Blues is a genre which has been evolving and expanding since the early 1900&rsquo\;s&hellip\; Lower Case Blues plays a modern\, energetic style blues while still remaining true to its roots. Influences ranging from Hard Rockin Blues to New Orleans Funk with a mix of Jazz and Soul.Lower Case Blues is a group that thrives on improvisation and crowd response. Jake Banaszak&rsquo\;s guitar style wails\, cries\, sings\, and shreds while BJ Muntz&rsquo\;s soulful voice and funky bass lines will blow your mind!! The band has shared the stage with greats such as Buddy Guy\, Kenny Wayne Shepherd\, Los Lonely Boys\, Robert Randolph and was selected as Best Band in Delaware 2009 in Delaware Today Magazine.</p>\n
LOCATION:Bethany Beach Bandstand
UID:e.2126.26395
SEQUENCE:3
DTSTAMP:20260420T212426Z
URL:http://business.thequietresorts.com/events/details/bethany-beach-bandstand-lower-case-blues-26395
END:VEVENT

END:VCALENDAR
