BEGIN:VCALENDAR
VERSION:2.0
PRODID:-//ChamberMaster//Event Calendar 2.0//EN
METHOD:PUBLISH
X-PUBLISHED-TTL:P3D
REFRESH-INTERVAL:P3D
CALSCALE:GREGORIAN
BEGIN:VEVENT
DTSTART:20230629T233000Z
DTEND:20230630T010000Z
X-MICROSOFT-CDO-ALLDAYEVENT:FALSE
SUMMARY:Bethany Beach Bandstand- Dan & Dan Band
DESCRIPTION:Few bands even attempt to cover the unique stylings of such artists like the Dave Matthews Band\, Coldplay\, John Mayer\, and Counting Crows. The Dan & Dan Band does it so well you may believe you're seeing and hearing these bands live in concert.
X-ALT-DESC;FMTTYPE=text/html:Few bands even attempt to cover the unique stylings of such artists like the Dave<strong>&nbsp\;</strong>Matthews Band<strong>\,</strong> Coldplay\, John Mayer\, and Counting Crows. The Dan &amp\; Dan Band does it so well you may believe you&#39\;re seeing and hearing these bands live in concert. &nbsp\; &nbsp\;
LOCATION:Bethany Beach Bandstand
UID:e.2126.25353
SEQUENCE:3
DTSTAMP:20260421T023028Z
URL:http://business.thequietresorts.com/events/details/bethany-beach-bandstand-dan-dan-band-25353
END:VEVENT

END:VCALENDAR
