BEGIN:VCALENDAR
VERSION:2.0
PRODID:-//ChamberMaster//Event Calendar 2.0//EN
METHOD:PUBLISH
X-PUBLISHED-TTL:P3D
REFRESH-INTERVAL:P3D
CALSCALE:GREGORIAN
BEGIN:VEVENT
DTSTART:20230623T233000Z
DTEND:20230624T010000Z
X-MICROSOFT-CDO-ALLDAYEVENT:FALSE
SUMMARY:Bethany Beach Bandstand- 70s Flashback
DESCRIPTION:Seven veteran musicians with a true passion for the music\, bring all the original excitement to both a new generation and to those who experienced it the first time.\n\nFrom the Eagles and Fleetwood Mac\, to Queen and Led Zeppelin\, to Studio 54 and CBGB\, 70s Flashback's stellar vocal harmonies and note-for-note musical recreations deliver every nuance and feeling of the original recordings.\n\nThis high-energy show continues to have audiences on their feet and reliving the promise of the grooviest music ever written.
X-ALT-DESC;FMTTYPE=text/html:<p>Seven veteran musicians with a true passion for the music\, bring all the original excitement to both a new generation and to those who experienced it the first time.</p>\n\n<p>From the Eagles and Fleetwood Mac\, to Queen and Led Zeppelin\, to Studio 54 and CBGB\, 70s Flashback&#39\;s stellar vocal harmonies and note-for-note musical recreations deliver every nuance and feeling of the original recordings.</p>\n\n<p>This high-energy show continues to have audiences on their feet and reliving the promise of the grooviest music ever written.</p>\n
LOCATION:Bethany Beach Bandstand
UID:e.2126.25352
SEQUENCE:3
DTSTAMP:20260421T004503Z
URL:http://business.thequietresorts.com/events/details/bethany-beach-bandstand-70s-flashback-25352
END:VEVENT

END:VCALENDAR
