BEGIN:VCALENDAR
VERSION:2.0
PRODID:-//ChamberMaster//Event Calendar 2.0//EN
METHOD:PUBLISH
X-PUBLISHED-TTL:P3D
REFRESH-INTERVAL:P3D
CALSCALE:GREGORIAN
BEGIN:VEVENT
DTSTART:20210414T150000Z
DTEND:20210414T190000Z
X-MICROSOFT-CDO-ALLDAYEVENT:FALSE
SUMMARY:BesTemps Job Fair
DESCRIPTION:THIS WEDNESDAY 4/14/21 11am-3pm\n\n\n\n\nBethany Fenwick Island Chamber of Commerce JOB FAIR\n\nHosted by BesTemps\n\n\nBethany-Fenwick Area Chamber of Commerce   36913 Coastal Highway Fenwick Island DE 19944
X-ALT-DESC;FMTTYPE=text/html:<div>\n<div>\n<div>THIS WEDNESDAY 4/14/21 11am-3pm</div>\n</div>\n</div>\n\n<div>\n<div><a href="https://www.facebook.com/events/754069462144279/?acontext=%7B%22ref_newsfeed_story_type%22%3A%22regular%22%2C%22source%22%3A%223%22%2C%22action_history%22%3A%22%5B%7B%5C%22surface%5C%22%3A%5C%22newsfeed%5C%22%2C%5C%22mechanism%5C%22%3A%5C%22feed_story%5C%22%2C%5C%22extra_data%5C%22%3A%5B%5D%7D%5D%22%7D&amp\;privacy_mutation_token=eyJ0eXBlIjowLCJjcmVhdGlvbl90aW1lIjoxNjE4MjM4ODU2LCJjYWxsc2l0ZV9pZCI6MzU5MDM2MDAxOTY4NDMyfQ%3D%3D&amp\;__xts__%5B0%5D=68.ARB1YRswTEzc_qLQYkfWTYpQohB_u_ps0CAUHJZ6IKdLmO09hAaCVdYJ49qtNTORR1HjXlUIbiVKpNQZvt-xgY1q1F2BPvzqIA2q1yX122JMg3KLl-nM2hUqSKPmZPxJS-3yBk7jvfjUFNeu6fhFvlXXjFoCjo725ZkXQwftJ-Pv-hiXEj-Sm8FbYuYVBLJsjZm4XpAMYasAgbEKLb-ogiHfX_wrfFY3kYKrqf9uso1wU4jslTc2nLMQyC5S_RsEtNyxVrV5fMBvhWVhpq0mzQZcG7O8ZcY&amp\;__tn__=HH-R" style="color: rgb(29\, 33\, 41)\; cursor: pointer\; text-decoration-line: none\; transition: color 0.1s ease-in-out 0s\; font-family: inherit\;">Bethany Fenwick Island Chamber of Commerce JOB FAIR<br />\nHosted by BesTemps</a></div>\n\n<div>\n<div><a href="https://www.facebook.com/BethanyFenwickAreaChamberOfCommerce/?__tn__=HH-R&amp\;eid=ARBl6P7cHKFIoGUe_gsBXIssyzcoe37uS9WzbILcYsESxmqrYu35sX1duG0v0js6UGhigetIIZ8ZhsrV&amp\;__xts__%5B0%5D=68.ARB1YRswTEzc_qLQYkfWTYpQohB_u_ps0CAUHJZ6IKdLmO09hAaCVdYJ49qtNTORR1HjXlUIbiVKpNQZvt-xgY1q1F2BPvzqIA2q1yX122JMg3KLl-nM2hUqSKPmZPxJS-3yBk7jvfjUFNeu6fhFvlXXjFoCjo725ZkXQwftJ-Pv-hiXEj-Sm8FbYuYVBLJsjZm4XpAMYasAgbEKLb-ogiHfX_wrfFY3kYKrqf9uso1wU4jslTc2nLMQyC5S_RsEtNyxVrV5fMBvhWVhpq0mzQZcG7O8ZcY" style="color: inherit\; cursor: pointer\; text-decoration-line: none\; position: relative\; z-index: 1\; font-family: inherit\;">Bethany-Fenwick Area Chamber of Commerce</a><span style="font-family:inherit">&nbsp\;&middot\; 36913 Coastal Highway&nbsp\;</span><span style="font-family:inherit">Fenwick Island DE 19944</span></div>\n</div>\n</div>\n
LOCATION:
UID:e.2126.21982
SEQUENCE:3
DTSTAMP:20260424T222439Z
URL:http://business.thequietresorts.com/events/details/bestemps-job-fair-21982
END:VEVENT

END:VCALENDAR
