BEGIN:VCALENDAR
VERSION:2.0
PRODID:-//ChamberMaster//Event Calendar 2.0//EN
METHOD:PUBLISH
X-PUBLISHED-TTL:P3D
REFRESH-INTERVAL:P3D
CALSCALE:GREGORIAN
BEGIN:VEVENT
DTSTART:20210825T130000Z
DTEND:20210825T190000Z
X-MICROSOFT-CDO-ALLDAYEVENT:FALSE
SUMMARY:BesTemps Career Fair & Open House
DESCRIPTION:OPEN HOUSE  \n\nWE HAVE CAREER JOBS \n\nWEDNESDAY AUGUST 25TH FROM 9 AM   3 PM\n\n \n\n\n\n \n\nCOMPLETE YOUR APPLICATION AND HAVE SAME DAY INTERVIEWS WITH OUR STAFFERS\n\n \n\nVARIOUS SKILL TYPES AND SHIFTS AVAILABLE\n\nOPPORTUNITIES TO LEARN A NEW SKILL TRADE\n\n \n\n**REFRESHMENTS AVAILABLE**\n\n*EVERY COMPLETED APPLICATION AND INTERVIEW WILL BE ENTERED TO WIN A GIFT CARD IN EACH OF OUR LOCATIONS*\n\n \n\nCALL FOR MORE INFORMATION\n\nSALISBURY   410-546-0250 CAMBRIDGE   410-221-9675 SEAFORD   302-629-4357
X-ALT-DESC;FMTTYPE=text/html:<strong><em><span style="font-size:20.0pt\;">OPEN HOUSE &nbsp\;</span></em></strong><br />\n<strong><em><span style="font-size:20.0pt\;">WE HAVE CAREER JOBS </span></em></strong><br />\n<strong><em><span style="font-size:20.0pt\;">WEDNESDAY AUGUST 25<sup>TH</sup> FROM 9 AM &ndash\; 3 PM</span></em></strong><br />\n&nbsp\;<br />\n<br />\n&nbsp\;<br />\n<strong><span style="font-size:16.0pt\;">COMPLETE YOUR APPLICATION AND HAVE SAME DAY INTERVIEWS WITH OUR STAFFERS</span></strong><br />\n&nbsp\;<br />\n<strong><span style="font-size:16.0pt\;">VARIOUS SKILL TYPES AND SHIFTS AVAILABLE</span></strong><br />\n<strong><span style="font-size:16.0pt\;">OPPORTUNITIES TO LEARN A NEW SKILL TRADE</span></strong><br />\n&nbsp\;<br />\n<strong><span style="font-size:16.0pt\;">**REFRESHMENTS AVAILABLE**</span></strong><br />\n<strong><span style="font-size:16.0pt\;">*EVERY COMPLETED APPLICATION AND INTERVIEW WILL BE ENTERED TO WIN A GIFT CARD IN EACH OF OUR LOCATIONS*</span></strong><br />\n&nbsp\;<br />\n<strong><span style="font-size:12.0pt\;">CALL FOR MORE INFORMATION</span></strong><br />\n<strong><span style="font-size:12.0pt\;">SALISBURY &ndash\; 410-546-0250 CAMBRIDGE &ndash\; 410-221-9675 SEAFORD &ndash\; 302-629-4357</span></strong>
LOCATION:ALL 3 LOCATIONS: 200 MARYLAND AVENUE CAMBRIDGE\, MD 308 CIVIC AVENUE SALISBURY\, MD 321 E. STEIN HIGHWAY SEAFORD\, DE
UID:e.2126.22698
SEQUENCE:3
DTSTAMP:20260424T155357Z
URL:http://business.thequietresorts.com/events/details/bestemps-career-fair-open-house-22698
END:VEVENT

END:VCALENDAR
