BEGIN:VCALENDAR
VERSION:2.0
PRODID:-//ChamberMaster//Event Calendar 2.0//EN
METHOD:PUBLISH
X-PUBLISHED-TTL:P3D
REFRESH-INTERVAL:P3D
CALSCALE:GREGORIAN
BEGIN:VEVENT
DTSTART;VALUE=DATE:20220926
DTEND;VALUE=DATE:20221005
TRANSP:TRANSPARENT
X-MICROSOFT-CDO-ALLDAYEVENT:TRUE
SUMMARY:Best of the Quiet Resorts Nominations
DESCRIPTION:All current Chamber Members are invited to submit their nominations for the annual member awards. Winners will be recognized at the Membership Celebration on Wednesday\, November 16\, 2022\, at Cripple Creek Country Club.\n\n \n\nAll nominations should be submitted by midnight on Tuesday\, October 4\, 2022. \n\n \n\nClick here for more information and to submit your nomination: Community Spirit - Best in Business - Inspiring Business\n\n \n\nThe Member Celebration will also highlight significant achievements\, anniversaries\, and accomplishments. If you have photos\, press releases\, or stories you'd like to highlight at the event\, please contact events@thequietresorts.com.\n\n\n\nLooking forward to celebrating all of the businesses in the Quiet Resorts.
X-ALT-DESC;FMTTYPE=text/html:<span style="color:black\;"><span style="font-family:arial\,sans-serif\;"><span style="font-size:10.5pt\;">All current Chamber Members are invited to submit their nominations for the annual member awards. Winners will be recognized at the Membership Celebration on Wednesday\, November 16\, 2022\, at Cripple Creek Country Club.</span></span></span><br />\n&nbsp\;<br />\n<span style="color:black\;"><span style="font-family:arial\,sans-serif\;"><span style="font-size:10.5pt\;">All nominations should be submitted by midnight on Tuesday\, October 4\, 2022.&nbsp\;</span></span></span><br />\n&nbsp\;<br />\n<span style="color:black\;"><span style="font-family:arial\,sans-serif\;"><span style="font-size:10.5pt\;"><a href="https://www.surveymonkey.com/r/ZC3VMBD">Click here</a>&nbsp\;for more information and to submit your nomination:&nbsp\;<em>Community Spirit - Best in Business - Inspiring Business</em></span></span></span><br />\n&nbsp\;<br />\n<span style="color:black\;"><span style="font-family:arial\,sans-serif\;"><span style="font-size:10.5pt\;">The Member Celebration will also highlight significant achievements\, anniversaries\, and accomplishments. If you have photos\, press releases\, or stories you&rsquo\;d like to highlight at the event\, please contact <a href="mailto:events@thequietresorts.com">events@thequietresorts.com</a>.</span></span></span><br />\n<br />\n<span style="color:black\;"><span style="font-family:arial\,sans-serif\;"><span style="font-size:10.5pt\;">Looking forward to celebrating all of the businesses in the Quiet Resorts.</span></span></span><br />\n&nbsp\;
LOCATION:
UID:e.2126.24201
SEQUENCE:3
DTSTAMP:20260421T160935Z
URL:http://business.thequietresorts.com/events/details/best-of-the-quiet-resorts-nominations-24201
END:VEVENT

END:VCALENDAR
