BEGIN:VCALENDAR
VERSION:2.0
PRODID:-//ChamberMaster//Event Calendar 2.0//EN
METHOD:PUBLISH
X-PUBLISHED-TTL:P3D
REFRESH-INTERVAL:P3D
CALSCALE:GREGORIAN
BEGIN:VEVENT
DTSTART:20200116T223000Z
DTEND:20200117T010000Z
X-MICROSOFT-CDO-ALLDAYEVENT:FALSE
SUMMARY:"Best of the Quiet Resorts" Member Celebration & Award Ceremony
DESCRIPTION:Join us at Cripple Creek County Club as we recognize the many amazing accomplishments and achievements of our Chamber members and businesses throughout the 2019 calendar year! The ticketed event will take place on Thursday\, January 16th from 5:30 - 8:00 pm\, and will recognize the Ambassador of the Year\, our flagship Lighthouse Award Recipient\, as well as the outgoing board. Please come dressed in business casual attire.\n\n\n\nIt's a Party - Toot Your Horn!\n\nThe Member Celebration will also highlight significant achievements\, accomplishments\, and community successes of all of our chamber members. If you have photos\, press releases\, or stories you'd like us to highlight at the event\, please contact Connor at events@bethany-fenwick.org. All RSVP's must be confirmed by January 10.\n\n\n\nTickets for the event will go on sale on Friday\, November 1.\n\n \nHors D'oeuvres & Food Stations\n\nSlider Stations\n\nSmoked Beef Brisket\n\nChicken Sliders\n\nAmber Ale Cod Sliders\n\nVegetable\n\nCheese and Fruit Display with dipping sauce\, gourmet crackers and asiago toast points\n\n \n\nButler Hors d'oeuvres\n\nAsparagus and Gruyere Cheese Puffs\n\nMini Crab Cake in Puff Pastry\n\nShrimp Scoops\n\nAntipasta Skewers\n\n\n\nCash Bar with full availability. Iced Tea\, Lemonade and soft drinks are available.\n\n\n\n\n \n\nNOMINEES\n\n\n\n	COMMUNITY SPIRIT AWARD: This award recognizes the member business that has demonstrated an exemplary commitment to the community\, above and beyond its business contributions throughout the year.\n\n	\n		Contractors for a Cause\n		Lord's Landscaping\n		Ball 4 All Foundation\n		Rita's Italian Ice\n	\n	\n	 BEST IN BUSINESS AWARD: Presented to a member business that provides high quality customer service above and beyond industry standards.\n	\n		Best In Business (Restaurant & Retail)\n		\n			Su Casa\n			Bethany Beach Books\n			Lord's Landscaping\n			Tangerine Goods\n			Sea Shell City\n			Bethany Blues\n			Cedar Land & Sea Kitchen\n			Fells Point Surf Co\n			Bank's Wines & Spirits\n		\n		\n		Best In Business (Real Estate & Construction)\n		\n			Seaside Seven\n			NV/Ryan Homes\n			ResortQuest\n			Long & Foster\n			Capstone Homes\n		\n		\n		Best In Business (Services)\n		\n			That Guy With a Broom\n			Custom Mechanical\n			Bed & Biscuit Kennel\n			Lord's Landscaping\n			iKANDE\n			Fenwick Islander Motel\n			Edward Jones - Max Hutsell\, AAMS\, Financial Advisor\n		\n		\n	\n	\n	MEMBER OF THE YEAR AWARD: Presented to the individual who has demonstrated the most dedication by his or her involvement in the Chamber throughout the year.\n	\n		Garth Troescher (Garth Enterprises\, LTD)\n		Amy Hughes (Lord's Landscaping)\n		Scott Smith (Edward Jones - Scott Smith)\n		Katina Dawson (A Sweet Affair Weddings and Events)\n		Lori Smyth (Tidepool Toys & Games)\n		Pam Vaughan (Jefferson\, Urian\, Doane & Sterner)\n		Rosemary Campbell (Campbell\, Rosemary)\n	\n	\n	INSPIRING BUSINESS AWARD: Presented to a group or an individual who actively encourages and perpetuates business innovation\, freely shares ideas and opinions regarding business issues\, and is a catalyst for the future of business.\n	\n		Jamie & Becki Hayman (Hayman Creative Promotional Products Agency Inc.)\n		Regan Deck (Custom Mechanical)\n		Nick Johnson (Su Casa)\n	\n	\n	NEW MEMBER OF THE YEAR AWARD: Presented to a new Chamber member that immediately became active after joining\, whether through networking\, events\, volunteerism\, or otherwise.\n	\n		Logan Galbreath (Prickly Gal Boutique and Surf Shop)\n		Ken Baker (Bethany Beach Beverage Co.)\n		Kyla Martin (Cedar Land & Sea Kitchen)\n		Brad King (SocialSussex)\n		Kathy Randall (McKee Builders)\n		Juan Johnson (Juan Johnson State Farm)\n		Sergio Palazzo (Ocean View Jewelers)\n	\n	\n\n Become an Event Sponsor\n\nIf you are interested in sponsoring the event\, see all sponsorship opportunities here\, and contact Event Manger Connor Lineberry for more information.
X-ALT-DESC;FMTTYPE=text/html:<span style="font-size: 14px\;"><span style="font-family: arial\;">Join us at&nbsp\;Cripple Creek County&nbsp\;Club&nbsp\;as we recognize the many amazing accomplishments and achievements of our Chamber members and businesses throughout the 2019 calendar year! The ticketed event will take place on&nbsp\;<strong>Thursday\, January 16th from 5:30 - 8:00 pm</strong>\, and will recognize the <strong>Ambassador of the Year</strong>\, our flagship <strong>Lighthouse Award Recipient\,</strong> as well as the outgoing board. Please come dressed in business casual attire.<br />\n<br />\n<strong>It&#39\;s a Party - Toot Your Horn!</strong><br />\nThe Member Celebration will also highlight significant achievements\, accomplishments\, and community successes of all of our chamber members. <strong>If you have photos\, press releases\, or stories you&#39\;d like us to highlight at the event</strong>\, please contact Connor at <a href="mailto:events@bethany-fenwick.org">events@bethany-fenwick.org</a>. All RSVP&#39\;s must be confirmed by January 10.<br />\n<br />\nTickets for the event will go on sale on Friday\, November 1.</span></span><br />\n&nbsp\;\n<div style="text-align: center\;"><span style="font-size: 14px\;"><span style="font-family: arial\;"><strong>Hors D&#39\;oeuvres &amp\; Food Stations<br />\nSlider Stations</strong></span></span></div>\n\n<div><span style="font-size: 14px\;"><span style="font-family: arial\;"><strong>Smoked Beef Brisket<br />\nChicken Sliders<br />\nAmber Ale Cod Sliders</strong></span></span></div>\n\n<div style="text-align: center\;"><span style="font-size: 14px\;"><span style="font-family: arial\;"><strong>Vegetable</strong></span></span></div>\n\n<div><span style="font-size: 14px\;"><span style="font-family: arial\;"><strong>Cheese and Fruit Display</strong> <em>with dipping sauce\, gourmet crackers and asiago toast points</em></span></span></div>\n\n<div style="text-align: center\;"><span style="font-size: 14px\;"><span style="font-family: arial\;">&nbsp\;</span></span></div>\n\n<div style="text-align: center\;"><span style="font-size: 14px\;"><span style="font-family: arial\;"><strong>Butler Hors d&#39\;oeuvres</strong></span></span></div>\n\n<div><span style="font-size: 14px\;"><span style="font-family: arial\;"><strong>Asparagus and Gruyere Cheese Puffs<br />\nMini Crab Cake in Puff Pastry<br />\nShrimp Scoops<br />\nAntipasta Skewers<br />\n<br />\nCash Bar with full availability. Iced Tea\, Lemonade and soft drinks are available.</strong></span></span></div>\n\n<div style="text-align: center\;">\n<div><br />\n&nbsp\;</div>\n\n<div style="text-align: left\;"><span style="font-size: 14px\;"><span style="font-family: arial\;">NOMINEES</span></span></div>\n</div>\n\n<ul>\n	<li><span style="font-size: 14px\;"><span style="font-family: arial\;"><span style="color: rgb(0\, 0\, 128)\;"><strong>COMMUNITY SPIRIT AWARD</strong></span>:&nbsp\;<em>This award recognizes the member business that has demonstrated an exemplary commitment to the community\, above and beyond its business contributions throughout the year.</em></span></span>\n\n	<ul>\n		<li><span style="font-size: 14px\;"><span style="font-family: arial\;">Contractors for a Cause</span></span></li>\n		<li><span style="font-size: 14px\;"><span style="font-family: arial\;">Lord&#39\;s Landscaping</span></span></li>\n		<li><span style="font-size: 14px\;"><span style="font-family: arial\;">Ball 4 All Foundation</span></span></li>\n		<li><span style="font-size: 14px\;"><span style="font-family: arial\;">Rita&#39\;s Italian Ice</span></span></li>\n	</ul>\n	</li>\n	<li><span style="font-size: 14px\;"><span style="font-family: arial\;">&nbsp\;<span style="color: rgb(0\, 0\, 128)\;"><strong>BEST IN BUSINESS AWARD</strong></span>:&nbsp\;<em>Presented to a member business that provides high quality customer service above and beyond industry standards.</em></span></span>\n	<ul>\n		<li><span style="font-size: 14px\;"><span style="font-family: arial\;"><em>Best In Business (Restaurant &amp\; Retail)</em></span></span>\n		<ul>\n			<li><span style="font-size: 14px\;"><span style="font-family: arial\;">Su Casa</span></span></li>\n			<li><span style="font-size: 14px\;"><span style="font-family: arial\;">Bethany Beach Books</span></span></li>\n			<li><span style="font-size: 14px\;"><span style="font-family: arial\;">Lord&#39\;s Landscaping</span></span></li>\n			<li><span style="font-size: 14px\;"><span style="font-family: arial\;">Tangerine Goods</span></span></li>\n			<li><span style="font-size: 14px\;"><span style="font-family: arial\;">Sea Shell City</span></span></li>\n			<li><span style="font-size: 14px\;"><span style="font-family: arial\;">Bethany Blues</span></span></li>\n			<li><span style="font-size: 14px\;"><span style="font-family: arial\;">Cedar Land &amp\; Sea Kitchen</span></span></li>\n			<li><span style="font-size: 14px\;"><span style="font-family: arial\;">Fells Point Surf Co</span></span></li>\n			<li><span style="font-size: 14px\;"><span style="font-family: arial\;">Bank&#39\;s Wines &amp\; Spirits</span></span></li>\n		</ul>\n		</li>\n		<li><span style="font-size: 14px\;"><span style="font-family: arial\;"><em>Best In Business (Real Estate &amp\; Construction)</em></span></span>\n		<ul>\n			<li><span style="font-size: 14px\;"><span style="font-family: arial\;">Seaside Seven</span></span></li>\n			<li><span style="font-size: 14px\;"><span style="font-family: arial\;">NV/Ryan Homes</span></span></li>\n			<li><span style="font-size: 14px\;"><span style="font-family: arial\;">ResortQuest</span></span></li>\n			<li><span style="font-size: 14px\;"><span style="font-family: arial\;">Long &amp\; Foster</span></span></li>\n			<li><span style="font-size: 14px\;"><span style="font-family: arial\;">Capstone Homes</span></span></li>\n		</ul>\n		</li>\n		<li><span style="font-size: 14px\;"><span style="font-family: arial\;"><em>Best In Business (Services)</em></span></span>\n		<ul>\n			<li><span style="font-size: 14px\;"><span style="font-family: arial\;">That Guy With a Broom</span></span></li>\n			<li><span style="font-size: 14px\;"><span style="font-family: arial\;">Custom Mechanical</span></span></li>\n			<li><span style="font-size: 14px\;"><span style="font-family: arial\;">Bed &amp\; Biscuit Kennel</span></span></li>\n			<li><span style="font-size: 14px\;"><span style="font-family: arial\;">Lord&#39\;s Landscaping</span></span></li>\n			<li><span style="font-size: 14px\;"><span style="font-family: arial\;">iKANDE</span></span></li>\n			<li><span style="font-size: 14px\;"><span style="font-family: arial\;">Fenwick Islander Motel</span></span></li>\n			<li><span style="font-size: 14px\;"><span style="font-family: arial\;">Edward Jones - Max Hutsell\, AAMS\, Financial Advisor</span></span></li>\n		</ul>\n		</li>\n	</ul>\n	</li>\n	<li><span style="font-size: 14px\;"><span style="font-family: arial\;"><em><span style="color: rgb(0\, 0\, 128)\;"><strong>MEMBER OF THE YEAR AWARD</strong></span>:&nbsp\;<em>Presented to the individual who has demonstrated the most dedication by his or her involvement in the Chamber throughout the year.</em></em></span></span>\n	<ul>\n		<li><span style="font-size: 14px\;"><span style="font-family: arial\;">Garth Troescher (Garth Enterprises\, LTD)</span></span></li>\n		<li><span style="font-size: 14px\;"><span style="font-family: arial\;">Amy Hughes (Lord&#39\;s Landscaping)</span></span></li>\n		<li><span style="font-size: 14px\;"><span style="font-family: arial\;">Scott Smith (Edward Jones - Scott Smith)</span></span></li>\n		<li><span style="font-size: 14px\;"><span style="font-family: arial\;">Katina Dawson (A Sweet Affair Weddings and Events)</span></span></li>\n		<li><span style="font-size: 14px\;"><span style="font-family: arial\;">Lori Smyth (Tidepool Toys &amp\; Games)</span></span></li>\n		<li><span style="font-size: 14px\;"><span style="font-family: arial\;">Pam Vaughan (Jefferson\, Urian\, Doane &amp\; Sterner)</span></span></li>\n		<li><span style="font-size: 14px\;"><span style="font-family: arial\;">Rosemary Campbell (Campbell\, Rosemary)</span></span></li>\n	</ul>\n	</li>\n	<li><span style="font-size: 14px\;"><span style="font-family: arial\;"><em><em><span style="color: rgb(0\, 0\, 128)\;"><strong>INSPIRING BUSINESS AWARD</strong></span>:&nbsp\;<em>Presented to a group or an individual who actively encourages and perpetuates business innovation\, freely shares ideas and opinions regarding business issues\, and is a catalyst for the future of business.</em></em></em></span></span>\n	<ul>\n		<li><span style="font-size: 14px\;"><span style="font-family: arial\;">Jamie &amp\; Becki Hayman (Hayman Creative Promotional Products Agency Inc.)</span></span></li>\n		<li><span style="font-size: 14px\;"><span style="font-family: arial\;">Regan Deck (Custom Mechanical)</span></span></li>\n		<li><span style="font-size: 14px\;"><span style="font-family: arial\;">Nick Johnson (Su Casa)</span></span></li>\n	</ul>\n	</li>\n	<li><span style="font-size: 14px\;"><span style="font-family: arial\;"><em><em><em><span style="color: rgb(0\, 0\, 128)\;"><strong>NEW MEMBER OF THE YEAR AWARD</strong></span>:&nbsp\;<em>Presented to a new Chamber member that immediately became active after joining\, whether through networking\, events\, volunteerism\, or otherwise.</em></em></em></em></span></span>\n	<ul>\n		<li><span style="font-size: 14px\;"><span style="font-family: arial\;">Logan Galbreath (Prickly Gal Boutique and Surf Shop)</span></span></li>\n		<li><span style="font-size: 14px\;"><span style="font-family: arial\;">Ken Baker (Bethany Beach Beverage Co.)</span></span></li>\n		<li><span style="font-size: 14px\;"><span style="font-family: arial\;">Kyla Martin (Cedar Land &amp\; Sea Kitchen)</span></span></li>\n		<li><span style="font-size: 14px\;"><span style="font-family: arial\;">Brad King (SocialSussex)</span></span></li>\n		<li><span style="font-size: 14px\;"><span style="font-family: arial\;">Kathy Randall (McKee Builders)</span></span></li>\n		<li><span style="font-size: 14px\;"><span style="font-family: arial\;">Juan Johnson (Juan Johnson State Farm)</span></span></li>\n		<li><span style="font-size: 14px\;"><span style="font-family: arial\;">Sergio Palazzo (Ocean View Jewelers)</span></span></li>\n	</ul>\n	</li>\n</ul>\n<span style="font-size: 14px\;"><span style="font-family: arial\;"> <strong>Become an Event Sponsor</strong><br />\nIf you are interested in sponsoring the event\, see all sponsorship opportunities&nbsp\;<a href="https://chambermaster.blob.core.windows.net/userfiles/UserFiles/chambers/2126/File/MCSPONSORFORM2022.pdf">here\,</a> and contact Event Manger Connor Lineberry for more information.&nbsp\;</span></span>
LOCATION:Cripple Creek Country Club 29494 Cripple Creek Rd. Dagsboro\, DE 19939
UID:e.2126.17343
SEQUENCE:3
DTSTAMP:20260426T021117Z
URL:http://business.thequietresorts.com/events/details/best-of-the-quiet-resorts-member-celebration-award-ceremony-17343
END:VEVENT

END:VCALENDAR
