BEGIN:VCALENDAR
VERSION:2.0
PRODID:-//ChamberMaster//Event Calendar 2.0//EN
METHOD:PUBLISH
X-PUBLISHED-TTL:P3D
REFRESH-INTERVAL:P3D
CALSCALE:GREGORIAN
BEGIN:VEVENT
DTSTART:20240505T150000Z
DTEND:20240505T190000Z
X-MICROSOFT-CDO-ALLDAYEVENT:FALSE
SUMMARY:Berries & Booze at Salted Vines Vineyard and Winery
DESCRIPTION:CALLING ALL STRAWBERRY LOVERS!\n\n\n\nFresh strawberries\, strawberry treats and baked goods!\n\nStrawberry slushies!! The best!!!\n\nShop with over 40 local boutiques and vendors!\n\n \n\nTickets are not required for this event.\n\n \n\nFood Trucks:\n\n11-5: Dixie's Down Home Cooking \n\n11-5: The Frozen Farmer\n\n11-2: Taco Rehoboth\n\n \n\nLive music with Kyle Offidani
X-ALT-DESC;FMTTYPE=text/html:<div class="xdj266r x11i5rnm xat24cr x1mh8g0r x1vvkbs" style="box-sizing: border-box\; color: rgb(85\, 85\, 85)\; font-family: Lato\, Arial\, Helvetica\, sans-serif\; font-size: 16px\;"><span style="color:#FF0000\;"><strong>CALLING ALL STRAWBERRY LOVERS!</strong></span><br />\n<br />\nFresh strawberries\, strawberry treats and baked goods!<br class="html-br" style="box-sizing: border-box\;" />\nStrawberry slushies!! The best!!!<br class="html-br" style="box-sizing: border-box\;" />\nShop with over 40 local boutiques and vendors!</div>\n\n<div style="box-sizing: border-box\; color: rgb(85\, 85\, 85)\; font-family: Lato\, Arial\, Helvetica\, sans-serif\; font-size: 16px\;">&nbsp\;</div>\n\n<div style="box-sizing: border-box\; color: rgb(85\, 85\, 85)\; font-family: Lato\, Arial\, Helvetica\, sans-serif\; font-size: 16px\;">Tickets are not required for this event.</div>\n\n<div style="box-sizing: border-box\; color: rgb(85\, 85\, 85)\; font-family: Lato\, Arial\, Helvetica\, sans-serif\; font-size: 16px\;">&nbsp\;</div>\n\n<div class="x11i5rnm xat24cr x1mh8g0r x1vvkbs xtlvy1s" style="box-sizing: border-box\; color: rgb(85\, 85\, 85)\; font-family: Lato\, Arial\, Helvetica\, sans-serif\; font-size: 16px\;">Food Trucks:<br class="html-br" style="box-sizing: border-box\;" />\n11-5: Dixie&#39\;s Down Home Cooking&nbsp\;<br class="html-br" style="box-sizing: border-box\;" />\n11-5: The Frozen Farmer<br class="html-br" style="box-sizing: border-box\;" />\n11-2: Taco Rehoboth</div>\n\n<div style="box-sizing: border-box\; color: rgb(85\, 85\, 85)\; font-family: Lato\, Arial\, Helvetica\, sans-serif\; font-size: 16px\;">&nbsp\;</div>\n\n<div class="x11i5rnm xat24cr x1mh8g0r x1vvkbs xtlvy1s" style="box-sizing: border-box\; color: rgb(85\, 85\, 85)\; font-family: Lato\, Arial\, Helvetica\, sans-serif\; font-size: 16px\;">Live music with Kyle Offidani</div>\n
LOCATION:Salted Vines Vineyard & Winery 32512 Blackwater Rd. Frankford\, DE 19945
UID:e.2126.29258
SEQUENCE:3
DTSTAMP:20260420T042158Z
URL:http://business.thequietresorts.com/events/details/berries-booze-at-salted-vines-vineyard-and-winery-29258
END:VEVENT

END:VCALENDAR
