BEGIN:VCALENDAR
VERSION:2.0
PRODID:-//ChamberMaster//Event Calendar 2.0//EN
METHOD:PUBLISH
X-PUBLISHED-TTL:P3D
REFRESH-INTERVAL:P3D
CALSCALE:GREGORIAN
BEGIN:VEVENT
DTSTART:20231120T150000Z
DTEND:20231202T220000Z
X-MICROSOFT-CDO-ALLDAYEVENT:FALSE
SUMMARY:Bellinger's Jewelers ANNUAL HOLIDAY SALE
DESCRIPTION:Bellinger's Jewelers presents our ANNUAL HOLIDAY SALE!!\n\n\n\nStarting MONDAY\, November 20th from 10AM to 5 PM and runs through SATURDAY\, December 2nd. We will be closed THANKSGIVING DAY and re-open BLACK FRIDAY.\n\n\n\nThis is a STOREWIDE EVENT featuring all the jewelry items you have come to expect from Bellinger's over the years so shop soon while our selection is at it's best.
X-ALT-DESC;FMTTYPE=text/html:Bellinger&#39\;s Jewelers presents our ANNUAL HOLIDAY SALE!!<br />\n<br />\nStarting MONDAY\, November 20th from 10AM to 5 PM and runs through SATURDAY\, December 2nd. We will be closed THANKSGIVING DAY and re-open BLACK FRIDAY.<br />\n<br />\nThis is a STOREWIDE EVENT featuring all the jewelry items you have come to expect from Bellinger&#39\;s over the years so shop soon while our selection is at it&#39\;s best.
LOCATION:Bellinger's Jewelers 20747 Coastal Highway Rehoboth Beach \,DE 19971 Mile Marker 17.9 North bound
UID:e.2126.27158
SEQUENCE:3
DTSTAMP:20260420T152752Z
URL:http://business.thequietresorts.com/events/details/bellinger-s-jewelers-annual-holiday-sale-27158
END:VEVENT

END:VCALENDAR
