BEGIN:VCALENDAR
VERSION:2.0
PRODID:-//ChamberMaster//Event Calendar 2.0//EN
METHOD:PUBLISH
X-PUBLISHED-TTL:P3D
REFRESH-INTERVAL:P3D
CALSCALE:GREGORIAN
BEGIN:VEVENT
DTSTART:20210927T210000Z
DTEND:20210928T020000Z
X-MICROSOFT-CDO-ALLDAYEVENT:FALSE
SUMMARY:Believe in Tomorrow Children's Foundation Beach Bash 2021
DESCRIPTION:Come out and join Believe in Tomorrow Children's Foundation at Seacrets Bar & Grill on Monday\, September 27\, for their annual Beach Bash. Purchase a $100 raffle ticket for your chance to win $10\,000\, with additional $500 prize winners per round. Doors will open at 5:00 pm and dine around starts at 5:30 pm. All proceeds from the 2021 Beach Bash will support the children and families in Believe in Tomorrow's programs.\n\n\n\nTo purchase tickets\, please click here. General admission tickets will be available at the door for $55. For more information about the event\, please email events@believeintomorrow.org or call the Believe In Tomorrow Children's House by the Sea at 410-723-2842.
X-ALT-DESC;FMTTYPE=text/html:<span style="font-family:arial\;"><span style="font-size:14px\;">Come out and join Believe in Tomorrow Children&#39\;s Foundation at Seacrets Bar &amp\; Grill on Monday\, September 27\, for their annual Beach Bash. Purchase a $100 raffle ticket for your chance to win $10\,000\, with additional $500 prize winners per round. Doors will open at 5:00 pm and dine around starts at 5:30 pm. All proceeds from the 2021 Beach Bash will support the children and families in Believe in Tomorrow&#39\;s programs.<br />\n<br />\nTo purchase tickets\, please <strong><a href="https://believeintomorrow.app.neoncrm.com/np/clients/believeintomorrow/eventRegistration.jsp?event=593&amp\;" target="_blank">click here</a></strong>. General admission tickets will be available at the door for $55. For more information about the event\, please email events@believeintomorrow.org or call the Believe In Tomorrow Children&#39\;s House by the Sea at 410-723-2842.</span></span><br />\n<br />\n&nbsp\;
LOCATION:Seacrets Bar & Grill 117 49th St Ocean City\, MD 21842
UID:e.2126.22697
SEQUENCE:3
DTSTAMP:20260424T134832Z
URL:http://business.thequietresorts.com/events/details/believe-in-tomorrow-children-s-foundation-beach-bash-2021-22697
END:VEVENT

END:VCALENDAR
