BEGIN:VCALENDAR
VERSION:2.0
PRODID:-//ChamberMaster//Event Calendar 2.0//EN
METHOD:PUBLISH
X-PUBLISHED-TTL:P3D
REFRESH-INTERVAL:P3D
CALSCALE:GREGORIAN
BEGIN:VEVENT
DTSTART:20210819T220000Z
DTEND:20210820T000000Z
X-MICROSOFT-CDO-ALLDAYEVENT:FALSE
SUMMARY:Believe In Tomorrow 5K
DESCRIPTION:The Believe In Tomorrow 5K racecourse offers beautiful views of the beach and ocean as you run/walk over the Indian River Inlet Bridge. Be sure to stick around for the sunset post-race party at the Big Chill Beach Club.\n\n\n\nDon't miss this opportunity to promote your brand and expand your market through a Believe In Tomorrow 5K sponsorship for our 2021 race! Interested sponsors can review details below to see which level is most appropriate. If you are interested in becoming a sponsor\, click here to see our sponsor packages. To sign on as a 2021 sponsor\, please contact us at events@believeintomorrow.org or call 410-723-2842 to see how your company can build better business opportunities in the local community.
X-ALT-DESC;FMTTYPE=text/html:<span style="font-family:arial\;"><span style="font-size:14px\;">The Believe In Tomorrow 5K racecourse offers beautiful views of the beach and ocean as you run/walk over the Indian River Inlet Bridge. Be sure to stick around for the sunset post-race party at the Big Chill Beach Club.<br />\n<br />\nDon&#39\;t miss this opportunity to promote your brand and expand your market through a Believe In Tomorrow 5K sponsorship for our 2021 race! Interested sponsors can review details below to see which level is most appropriate. If you are interested in becoming a sponsor\, <strong><a href="https://believeintomorrow.org/wp-content/uploads/2021/05/BIT_5K_Sponsorship_2021_Form.pdf" target="_blank">click here</a></strong> to see our sponsor packages. To sign on as a 2021 sponsor\, please contact us at events@believeintomorrow.org or call 410-723-2842 to see how your company can build better business opportunities in the local community.</span></span><br />\n&nbsp\;
LOCATION:The Big Chill Beach Club 27099 Coastal Hwy Bethany Beach\, DE 19930
UID:e.2126.22600
SEQUENCE:3
DTSTAMP:20260424T153106Z
URL:http://business.thequietresorts.com/events/details/believe-in-tomorrow-5k-22600
END:VEVENT

END:VCALENDAR
