BEGIN:VCALENDAR
VERSION:2.0
PRODID:-//ChamberMaster//Event Calendar 2.0//EN
METHOD:PUBLISH
X-PUBLISHED-TTL:P3D
REFRESH-INTERVAL:P3D
CALSCALE:GREGORIAN
BEGIN:VEVENT
DTSTART:20231119T000000Z
DTEND:20231119T040000Z
X-MICROSOFT-CDO-ALLDAYEVENT:FALSE
SUMMARY:Believe In Tomorrow 2023 Gala by the Sea
DESCRIPTION:Please join Believe In Tomorrow Children's Foundation for a magical night inspired by the movies you love! We have the TICKETS. We have the POPCORN. Now\, we need our wonderful supporters to join us\, make some MAGIC and help fulfill our mission.\n\n\n\nWe are thrilled to be celebrating our beach respite program and some amazing community partners at this year's Gala! \n\n\n\n2023 Award Recipients\n\nStarfish Making a Difference: Gateway Subaru   Angie & Frank Ferrogine\n\nHero By The Sea: Old Pro Golf   Judy Schoellkopf\n\nBeliever In Tomorrow :Jolly Roger Amusement Park   Charles R. "Buddy" Jenkins\, Sr.\n\n\n\nExciting Raffles\, Super Silent Auction\, Silent Auction and Sponsorships are available.
X-ALT-DESC;FMTTYPE=text/html:Please join Believe In Tomorrow Children&rsquo\;s Foundation for a magical night inspired by the movies you love! We have the TICKETS. We have the POPCORN. Now\, we need our wonderful supporters to join us\, make some MAGIC and help fulfill our mission.<br />\n<br />\n<span style="font-family:calibri\,sans-serif"><span style="font-size:11pt">We are thrilled to be celebrating our beach respite program and some amazing community partners at this year&rsquo\;s Gala!&nbsp\;<br />\n<br />\n<strong><u>2023 Award Recipients</u></strong></span></span><br />\nStarfish Making a Difference: Gateway Subaru &ndash\; Angie &amp\; Frank Ferrogine<br />\nHero By The Sea: Old Pro Golf &ndash\; Judy Schoellkopf<br />\nBeliever In Tomorrow :Jolly Roger Amusement Park &ndash\; Charles R. &ldquo\;Buddy&rdquo\; Jenkins\, Sr.<br />\n<br />\nExciting Raffles\, Super Silent Auction\, Silent Auction and Sponsorships are available.<br />\n&nbsp\;
LOCATION:Ashore Resort & Beach Club 10100 Coastal Highway Ocean City\, MD 21842
UID:e.2126.27004
SEQUENCE:3
DTSTAMP:20260420T183214Z
URL:http://business.thequietresorts.com/events/details/believe-in-tomorrow-2023-gala-by-the-sea-27004
END:VEVENT

END:VCALENDAR
