BEGIN:VCALENDAR
VERSION:2.0
PRODID:-//ChamberMaster//Event Calendar 2.0//EN
METHOD:PUBLISH
X-PUBLISHED-TTL:P3D
REFRESH-INTERVAL:P3D
CALSCALE:GREGORIAN
BEGIN:VEVENT
DTSTART;VALUE=DATE:20230824
DTEND;VALUE=DATE:20230825
TRANSP:TRANSPARENT
X-MICROSOFT-CDO-ALLDAYEVENT:TRUE
SUMMARY:Believe In Tomorrow 2023 5K run/walk
DESCRIPTION:LACE UP YOUR RUNNING SHOES!\n			\n		\n	\n\n\nGet ready to meet us at the starting line because the Believe In Tomorrow 5K is just around the corner!\n\n \n\nJoin us on August 24th at Big Chill Beach Club in Bethany Beach\, Delaware\, for an incredible day of racing! Whether you're an avid runner or just looking for a scenic stroll\, this event is open to all ages and abilities.\n\n \n\n	\n		\n			\n			\n				\n					\n						What can you expect on race day?\n					\n				\n			\n\n			 \n			\n		\n	\n\n\n \n\n\n	\n		\n			\n			\n				\n					\n						\n						\n							Race Shirts to All Registrants (sizes not guaranteed for day of registration)\n							Sunset post-race party at Big Chill Beach Club with Taco Bar\n							Prizes for Top Individual Fundraiser & Top Team Fundraiser\n							Awards presented for Overall\, Masters\, & Age Groupers
X-ALT-DESC;FMTTYPE=text/html:<table align="center" border="0" cellpadding="0" cellspacing="0" style="width:100.0%">\n	<tbody>\n		<tr>\n			<td style="vertical-align:top">\n			<h1 style="text-align:center"><span style="color:#F26788"><span style="font-family:tahoma\,sans-serif"><span style="font-size:26.5pt">LACE UP YOUR RUNNING SHOES!</span></span></span></h1>\n			</td>\n		</tr>\n	</tbody>\n</table>\n\n<div><strong><span style="color:#005BAB"><span style="font-family:raleway"><span style="font-size:13.0pt">Get ready to meet us at the starting line because the Believe In Tomorrow 5K is just around the corner!</span></span></span></strong><br />\n&nbsp\;<br />\n<strong><span style="color:#005BAB"><span style="font-family:raleway"><span style="font-size:13.0pt">Join us on August 24th at Big Chill Beach Club in Bethany Beach\, Delaware\, for an incredible day of racing! Whether you&#39\;re an avid runner or just looking for a scenic stroll\, this event is open to all ages and abilities.</span></span></span></strong><br />\n&nbsp\;\n<table align="center" border="0" cellpadding="0" cellspacing="0" style="width:100.0%">\n	<tbody>\n		<tr>\n			<td style="vertical-align:top\; width:100.0%">\n			<table align="center" border="0" cellpadding="0" cellspacing="0" style="width:100.0%">\n				<tbody>\n					<tr>\n						<td style="vertical-align:top"><strong><span style="color:#F26788"><span style="font-family:tahoma\,sans-serif"><span style="font-size:19.0pt">What can you expect on race day?</span></span></span></strong></td>\n					</tr>\n				</tbody>\n			</table>\n\n			<div>&nbsp\;</div>\n			</td>\n		</tr>\n	</tbody>\n</table>\n\n<div>&nbsp\;</div>\n\n<table align="center" border="0" cellpadding="0" cellspacing="0" style="width:100.0%">\n	<tbody>\n		<tr>\n			<td style="vertical-align:top\; width:100.0%">\n			<table align="center" border="0" cellpadding="0" cellspacing="0" style="width:100.0%">\n				<tbody>\n					<tr>\n						<td style="vertical-align:top">\n						<ul>\n							<li><strong><span style="color:#005BAB"><span style="font-family:raleway"><span style="font-size:12.0pt">Race Shirts to All Registrants (sizes not guaranteed for day of registration)</span></span></span></strong></li>\n							<li><strong><span style="color:#005BAB"><span style="font-family:raleway"><span style="font-size:12.0pt">Sunset post-race party at Big Chill Beach Club with Taco Bar</span></span></span></strong></li>\n							<li><strong><span style="color:#005BAB"><span style="font-family:raleway"><span style="font-size:12.0pt">Prizes for Top Individual Fundraiser &amp\; Top Team Fundraiser</span></span></span></strong></li>\n							<li><strong><span style="color:#005BAB"><span style="font-family:raleway"><span style="font-size:12.0pt">Awards presented for Overall\, Masters\, &amp\; Age Groupers</span></span></span></strong></li>\n						</ul>\n						</td>\n					</tr>\n				</tbody>\n			</table>\n\n			<div>&nbsp\;</div>\n			</td>\n		</tr>\n	</tbody>\n</table>\n\n<div>&nbsp\;</div>\n<br />\n&nbsp\;</div>\n
LOCATION:Where? Big Chill Beach Club 27099 Coastal Highway Bethany Beach\, DE 19930 ?Delaware Seashore State Park
UID:e.2126.26169
SEQUENCE:3
DTSTAMP:20260420T230323Z
URL:http://business.thequietresorts.com/events/details/believe-in-tomorrow-2023-5k-run-walk-26169
END:VEVENT

END:VCALENDAR
