BEGIN:VCALENDAR
VERSION:2.0
PRODID:-//ChamberMaster//Event Calendar 2.0//EN
METHOD:PUBLISH
X-PUBLISHED-TTL:P3D
REFRESH-INTERVAL:P3D
CALSCALE:GREGORIAN
BEGIN:VEVENT
DTSTART:20231202T130000Z
DTEND:20231202T153000Z
X-MICROSOFT-CDO-ALLDAYEVENT:FALSE
SUMMARY:Believe In Santa
DESCRIPTION:Dress up in your favorite holiday attire and join Believe In Tomorrow friends and volunteers for a pre-event pancake breakfast before the Ocean City Christmas Parade. You can also join the group and walk with our float!\n\n\n\nPrice includes: Pancake Bar with Coffee and Hot Cocoa\, Stuffed Animal\, Photo with Santa\, Face Painting\, Kid Zone\, Games and Raffles!
X-ALT-DESC;FMTTYPE=text/html:Dress up in your favorite holiday attire and join Believe In Tomorrow friends and volunteers for a pre-event pancake breakfast before the Ocean City Christmas Parade. You can also join the group and walk with our float!<br />\n<br />\nPrice includes: Pancake Bar with Coffee and Hot Cocoa\, Stuffed Animal\, Photo with Santa\, Face Painting\, Kid Zone\, Games and Raffles!
LOCATION:Princess Royale Oceanfront Resort Atrium 9110 Coastal Hwy Ocean City\, MD 21842
UID:e.2126.27159
SEQUENCE:3
DTSTAMP:20260420T151955Z
URL:http://business.thequietresorts.com/events/details/believe-in-santa-27159
END:VEVENT

END:VCALENDAR
