BEGIN:VCALENDAR
VERSION:2.0
PRODID:-//ChamberMaster//Event Calendar 2.0//EN
METHOD:PUBLISH
X-PUBLISHED-TTL:P3D
REFRESH-INTERVAL:P3D
CALSCALE:GREGORIAN
BEGIN:VEVENT
DTSTART:20240428T140000Z
DTEND:20240428T170000Z
X-MICROSOFT-CDO-ALLDAYEVENT:FALSE
SUMMARY:Beebe Brunch "Bourbon & Bubbly" to benefit South Coastal Emergency Department and Cancer Center
DESCRIPTION:This unique event will feature brunch\, bourbon tasting\, a bubbly bar\, entertainment\, a gift card pull and more! This year's Beebe Brunch will provide funding for Beebe Healthcare's South Coastal Emergency Department and Cancer Center in Millville. Please join us at Signatures at Bayside\, 31252 Americana Parkway in Selbyville. For tickets\, visit us online.
X-ALT-DESC;FMTTYPE=text/html:This unique event will feature brunch\, bourbon tasting\, a bubbly bar\, entertainment\, a gift card pull and more! This year&#39\;s Beebe Brunch will provide funding for Beebe Healthcare&#39\;s South Coastal Emergency Department and Cancer Center in Millville. Please join us at Signatures at Bayside\, 31252 Americana Parkway in Selbyville. For tickets\, visit us online.
LOCATION:Signatures at Bayside 31252 Americana Parkway Selbyville\, DE 19975
UID:e.2126.28544
SEQUENCE:3
DTSTAMP:20260420T061707Z
URL:http://business.thequietresorts.com/events/details/beebe-brunch-bourbon-bubbly-to-benefit-south-coastal-emergency-department-and-cancer-center-28544
END:VEVENT

END:VCALENDAR
