BEGIN:VCALENDAR
VERSION:2.0
PRODID:-//ChamberMaster//Event Calendar 2.0//EN
METHOD:PUBLISH
X-PUBLISHED-TTL:P3D
REFRESH-INTERVAL:P3D
CALSCALE:GREGORIAN
BEGIN:VEVENT
DTSTART:20200426T140000Z
DTEND:20200426T160000Z
X-MICROSOFT-CDO-ALLDAYEVENT:FALSE
SUMMARY:Beebe Brunch
DESCRIPTION:The inaugural Beebe Brunch will be held at 10:00 a.m. at Bear Trap Dunes in Ocean View. To RSVP\, call 302-644-2900.
X-ALT-DESC;FMTTYPE=text/html:<span style="font-family: arial\;"><span style="font-size: 14px\;">The inaugural Beebe Brunch will be held at 10:00 a.m. at Bear Trap Dunes in Ocean View. To RSVP\, call 302-644-2900.</span></span>
LOCATION:Bear Trap Dunes 7 Club House Dr Ocean View\, DE 19970
UID:e.2126.20281
SEQUENCE:3
DTSTAMP:20260425T224946Z
URL:http://business.thequietresorts.com/events/details/beebe-brunch-20281
END:VEVENT

END:VCALENDAR
