BEGIN:VCALENDAR
VERSION:2.0
PRODID:-//ChamberMaster//Event Calendar 2.0//EN
METHOD:PUBLISH
X-PUBLISHED-TTL:P3D
REFRESH-INTERVAL:P3D
CALSCALE:GREGORIAN
BEGIN:VEVENT
DTSTART:20240309T233000Z
DTEND:20240310T020000Z
X-MICROSOFT-CDO-ALLDAYEVENT:FALSE
SUMMARY:Beatlemania Again at the Fenwick Inn
DESCRIPTION:Get in the groovy spirit with Beatlemania Again playing live at the Fenwick Inn! Ticket purchase includes almost 2 hours of classic Beatles hits you know and love and a three course meal from Vista Rooftop. \n\nStarting with a delicious\, creamy caesar salad\, followed by your choice of braised short rib\, dry rubbed Delmarva chicken or blackened mahi mahi then finish the night with cookies and chocolate mousse! Call 410-250-1100 or email gm@fenwickinn.com to select your meal after ticket purchase. \n\nBook the room package through our website for a discount on admission and the added convenience of not driving home. A cash bar will be available in Lookout Loft for the whole event!
X-ALT-DESC;FMTTYPE=text/html:<p>Get in the groovy spirit with Beatlemania Again playing live at the Fenwick Inn! Ticket purchase includes almost 2 hours of classic Beatles hits you know and love&nbsp\;and a three course meal from Vista Rooftop.&nbsp\;</p>\n\n<p>Starting with a delicious\, creamy caesar salad\, followed by your choice of braised short rib\, dry rubbed Delmarva chicken or blackened mahi mahi then finish the night with cookies and chocolate mousse! Call 410-250-1100 or email gm@fenwickinn.com to select your meal after ticket purchase.&nbsp\;</p>\n\n<p>Book the room package through our website for a discount on admission and the added convenience of not driving&nbsp\;home. A cash bar will be available in Lookout Loft for the whole event!</p>\n
LOCATION:Fenwick Inn 13801 Coastal Highway Ocean City\, MD 21842
UID:e.2126.28442
SEQUENCE:3
DTSTAMP:20260420T075012Z
URL:http://business.thequietresorts.com/events/details/beatlemania-again-at-the-fenwick-inn-28442
END:VEVENT

END:VCALENDAR
