BEGIN:VCALENDAR
VERSION:2.0
PRODID:-//ChamberMaster//Event Calendar 2.0//EN
METHOD:PUBLISH
X-PUBLISHED-TTL:P3D
REFRESH-INTERVAL:P3D
CALSCALE:GREGORIAN
BEGIN:VEVENT
DTSTART:20221001T220000Z
DTEND:20221001T233000Z
X-MICROSOFT-CDO-ALLDAYEVENT:FALSE
SUMMARY:Beatlemania Again
DESCRIPTION:Relive the music\, the magic\, and the mania of The Beatles live on stage. The show chronologically traces The Beatles career starting with their debut on the Ed Sullivan Show in 1964.
X-ALT-DESC;FMTTYPE=text/html:Relive the music\, the magic\, and the mania of The Beatles live on stage. The show chronologically traces The Beatles career starting with their debut on the Ed Sullivan Show in 1964.&nbsp\;
LOCATION:Bethany Beach Bandstand
UID:e.2126.24038
SEQUENCE:3
DTSTAMP:20260421T160447Z
URL:http://business.thequietresorts.com/events/details/beatlemania-again-24038
END:VEVENT

END:VCALENDAR
