BEGIN:VCALENDAR
VERSION:2.0
PRODID:-//ChamberMaster//Event Calendar 2.0//EN
METHOD:PUBLISH
X-PUBLISHED-TTL:P3D
REFRESH-INTERVAL:P3D
CALSCALE:GREGORIAN
BEGIN:VEVENT
DTSTART:20230816T223000Z
DTEND:20230817T000000Z
X-MICROSOFT-CDO-ALLDAYEVENT:FALSE
SUMMARY:Beatlemania Again
DESCRIPTION:BEATLEMANIA AGAIN"\, relives the Music\, the Magic and the Mania of The Beatles live on stage. The show chronologically traces The Beatles career from their debut on the Ed Sullivan Show in 1964\, to their psychedelic era and the release of the mind blowing Sgt. Pepper album\, to their last -ever live concert on the rooftop of Apple records in 1969. The show features over 30 of The Beatles greatest hits performed live on stage along with 3 amazing costume changes. To add to the authenticity\, "BEATLEMANIA AGAIN" uses the same musical instruments that the Beatles used in the 1960s such as Hofner Bass Guitars\, Rickenbacker Guitars\, Gretsch Guitars\, Vox Amplifiers and Black Oyster Pearl Ludwig Drums. \n\n\n\nThis show has excited audiences throughout the United States and Canada\, and has shared the stage with highly talented artists such as BJ Thomas\, The Grass Roots\, The Lovin Spoonful\, Chubby Checker\, The Turtles\, Max Weinberg and many more!
X-ALT-DESC;FMTTYPE=text/html:<p>BEATLEMANIA AGAIN&quot\;\, relives the Music\, the Magic and the Mania of The Beatles live on stage. The show chronologically traces The Beatles career from their debut on the Ed Sullivan Show in 1964\, to their psychedelic era and the release of the mind blowing Sgt. Pepper album\, to their last -ever live concert on the rooftop of Apple records in 1969. The show features over 30 of The Beatles greatest hits performed live on stage along with 3 amazing costume changes. To add to the authenticity\, &quot\;BEATLEMANIA AGAIN&quot\; uses the same musical instruments that the Beatles used in the 1960s such as Hofner Bass Guitars\, Rickenbacker Guitars\, Gretsch Guitars\, Vox Amplifiers and Black Oyster Pearl Ludwig Drums.&nbsp\;</p>\n\n<p><br />\nThis show has excited audiences throughout the United States and Canada\, and has shared the stage with highly talented artists such as BJ Thomas\, The Grass Roots\, The Lovin Spoonful\, Chubby Checker\, The Turtles\, Max Weinberg and many more!</p>\n
LOCATION:Bethany Beach Bandstand
UID:e.2126.26492
SEQUENCE:3
DTSTAMP:20260420T213211Z
URL:http://business.thequietresorts.com/events/details/beatlemania-again-08-16-2023-26492
END:VEVENT

END:VCALENDAR
