BEGIN:VCALENDAR
VERSION:2.0
PRODID:-//ChamberMaster//Event Calendar 2.0//EN
METHOD:PUBLISH
X-PUBLISHED-TTL:P3D
REFRESH-INTERVAL:P3D
CALSCALE:GREGORIAN
BEGIN:VEVENT
DTSTART:20231210T160000Z
DTEND:20231210T200000Z
X-MICROSOFT-CDO-ALLDAYEVENT:FALSE
SUMMARY:Beam Suntory Brands Bottle Engraving Holiday Event at Banks Wine and Spirits
DESCRIPTION:Perfect Holiday Gift Idea: Beam Suntory Brands offer a large variety of Items for just about anyone. Ranging from Vodka to Whiskey\, this collection is for everyone. Here is a list of Products we carry in our store right now: Auchentoshan\, Baker's\, Basil Hayden\, Booker's\, Bowmore\, Canadian Club\, Courvoisier\, Cruzan Rum\, Dekuyper\, Effen Vodka\, El Tesoro Tequila\, Haku\, Hibiki\, Hornitos\, Jim Beam\, Kilbeggan\, Knob Creek\, Laphroiag\, Makers Mark\, Midori\, Pinnacle Vodka\, Roku Gin\, Sauza tequila\, Sipsmith Gin\, Tres Generacions
X-ALT-DESC;FMTTYPE=text/html:<strong>Perfect Holiday Gift Idea: Beam Suntory Brands offer a large variety of Items for just about anyone. Ranging from Vodka to Whiskey\, this collection is for everyone. Here is a list of Products we carry in our store right now: </strong>Auchentoshan\,&nbsp\;Baker&#39\;s\, Basil Hayden\, Booker&#39\;s\, Bowmore\, Canadian Club\, Courvoisier\, Cruzan Rum\, Dekuyper\, Effen Vodka\, El Tesoro Tequila\, Haku\, Hibiki\, Hornitos\, Jim Beam\, Kilbeggan\, Knob Creek\, Laphroiag\, Makers Mark\, Midori\, Pinnacle Vodka\, Roku Gin\, Sauza tequila\, Sipsmith Gin\, Tres Generacions
LOCATION:Banks Wines & Spirits 38014 Town Center Dr. Millville\, DE 19967
UID:e.2126.27074
SEQUENCE:3
DTSTAMP:20260420T165224Z
URL:http://business.thequietresorts.com/events/details/beam-suntory-brands-bottle-engraving-holiday-event-at-banks-wine-and-spirits-12-10-2023-27074
END:VEVENT

END:VCALENDAR
