BEGIN:VCALENDAR
VERSION:2.0
PRODID:-//ChamberMaster//Event Calendar 2.0//EN
METHOD:PUBLISH
X-PUBLISHED-TTL:P3D
REFRESH-INTERVAL:P3D
CALSCALE:GREGORIAN
BEGIN:VEVENT
DTSTART:20210430T190000Z
DTEND:20210430T220000Z
X-MICROSOFT-CDO-ALLDAYEVENT:FALSE
SUMMARY:Beach Liquors "Grand Opening & Ribbon Cutting"
DESCRIPTION:Join the staff at Beach Liquors in Bethany Beach  in celebrating their Grand Opening and Ribbon Cutting on Friday April 30\, 2021 beginning at 4:00pm. Enjoy a live radio broadcast from 97.1 The Wave !\n\n\n\nCome in and enjoy our Bourbon Bonanza Sale and Lottery
X-ALT-DESC;FMTTYPE=text/html:<span style="color: rgb(51\, 51\, 51)\; font-family: sans-serif\, Arial\, Verdana\, &quot\;Trebuchet MS&quot\;\; font-size: 13px\; background-color: rgb(255\, 255\, 255)\;">Join the staff at Beach Liquors in Bethany Beach&nbsp\; in celebrating their Grand Opening and Ribbon Cutting on Friday April 30\, 2021 beginning at 4:00pm. Enjoy a live radio broadcast from 97.1 The Wave !</span><br />\n<br style="color: rgb(51\, 51\, 51)\; font-family: sans-serif\, Arial\, Verdana\, &quot\;Trebuchet MS&quot\;\; font-size: 13px\;" />\n<span style="color: rgb(51\, 51\, 51)\; font-family: sans-serif\, Arial\, Verdana\, &quot\;Trebuchet MS&quot\;\; font-size: 13px\; background-color: rgb(255\, 255\, 255)\;">Come in and enjoy our Bourbon Bonanza Sale and Lottery</span>
LOCATION:Beach Liquors 33012 Coastal Highway Bethany Beach\, DE 19930
UID:e.2126.21981
SEQUENCE:3
DTSTAMP:20260424T225421Z
URL:http://business.thequietresorts.com/events/details/beach-liquors-grand-opening-ribbon-cutting-21981
END:VEVENT

END:VCALENDAR
