BEGIN:VCALENDAR
VERSION:2.0
PRODID:-//ChamberMaster//Event Calendar 2.0//EN
METHOD:PUBLISH
X-PUBLISHED-TTL:P3D
REFRESH-INTERVAL:P3D
CALSCALE:GREGORIAN
BEGIN:VEVENT
DTSTART:20231013T200000Z
DTEND:20231013T220000Z
X-MICROSOFT-CDO-ALLDAYEVENT:FALSE
SUMMARY:Beach Break Boutique Customer Celebration and Sip and Shop
DESCRIPTION:As a THANK YOU to our customers\, we're excited to host our Customer Appreciation and Sip and Shop event on Friday\, October 13th.\n\n\n\nJoin us for a day of shopping\, socializing\, raffles\, giveaways\, and wine.\n\n\n\n10% of sales will be donated to Susan G. Komen.\n\n\n\nCustomer Appreciation is all day from 10am-6pm and the Sip and Shop is from 4-6pm
X-ALT-DESC;FMTTYPE=text/html:As a THANK YOU to our customers\, we&#39\;re excited to host our Customer Appreciation and Sip and Shop event on Friday\, October 13th.<br />\n<br />\nJoin us for a day of shopping\, socializing\, raffles\, giveaways\, and wine.<br />\n<br />\n10% of sales will be donated to Susan G. Komen.<br />\n<br />\nCustomer Appreciation is all day from 10am-6pm and the Sip and Shop is from 4-6pm
LOCATION:Beach Break Boutique 1500 Coastal Hwy. Fenwick Island\, DE 19944
UID:e.2126.27007
SEQUENCE:3
DTSTAMP:20260420T183007Z
URL:http://business.thequietresorts.com/events/details/beach-break-boutique-customer-celebration-and-sip-and-shop-27007
END:VEVENT

END:VCALENDAR
