BEGIN:VCALENDAR
VERSION:2.0
PRODID:-//ChamberMaster//Event Calendar 2.0//EN
METHOD:PUBLISH
X-PUBLISHED-TTL:P3D
REFRESH-INTERVAL:P3D
CALSCALE:GREGORIAN
BEGIN:VEVENT
DTSTART:20240505T183000Z
DTEND:20240505T203000Z
X-MICROSOFT-CDO-ALLDAYEVENT:FALSE
SUMMARY:Be Unstoppable with Pro-surfer Bethany Hamilton Sponsored by PWW Law
DESCRIPTION:What does it mean to be unstoppable?\n\n\n\nCome to Crossroad Community Church to hear an inspirational discussion with Bethany Hamilton\, wife\, mother\, and professional surfer. She'll share how she overcame life's unexpected and unplanned events by having courage\, being faithful\, and blessing others. \n\n\n\nTickets are $25 per person and required in advance. No refunds.\n\n\n\nSponsored by Procino-Wells & Woodland\, LLC.
X-ALT-DESC;FMTTYPE=text/html:What does it mean to be unstoppable?<br />\n<br />\nCome to Crossroad Community Church to hear an inspirational discussion with Bethany Hamilton\, wife\, mother\, and professional surfer. She&#39\;ll share how she overcame life&#39\;s unexpected and unplanned events by having courage\, being faithful\, and blessing others.&nbsp\;<br />\n<br />\nTickets are $25 per person and required in advance. No refunds.<br />\n<br />\nSponsored by Procino-Wells &amp\; Woodland\, LLC.
LOCATION:Crossroad Community Church 20684 State Forest Rd. Georgetown\, DE 19947
UID:e.2126.28565
SEQUENCE:3
DTSTAMP:20260420T042025Z
URL:http://business.thequietresorts.com/events/details/be-unstoppable-with-pro-surfer-bethany-hamilton-sponsored-by-pww-law-28565
END:VEVENT

END:VCALENDAR
