BEGIN:VCALENDAR
VERSION:2.0
PRODID:-//ChamberMaster//Event Calendar 2.0//EN
METHOD:PUBLISH
X-PUBLISHED-TTL:P3D
REFRESH-INTERVAL:P3D
CALSCALE:GREGORIAN
BEGIN:VEVENT
DTSTART:20200503T160000Z
DTEND:20200503T180000Z
X-MICROSOFT-CDO-ALLDAYEVENT:FALSE
SUMMARY:BBQ Cooking Class @ Bethany Blues!!!
DESCRIPTION:We will be hosting a bbq cooking class in our Bethany location\, featuring "insider" tips on how to create great bbq. It will be hands on learning experience with a tour of the kitchen and use of our smoker. We will be smoking ribs\, brisket\, and pork. Everyone will have bbq to take home with them plus some of our rubs and bbq sauce! Sunday\, May 3rd from 12pm-2pm.
X-ALT-DESC;FMTTYPE=text/html:<span style="font-family: arial\;"><span style="font-size: 14px\;"><span style="color: rgb(15\, 15\, 15)\;">We will be hosting a bbq cooking class in our Bethany location\, featuring &quot\;insider&quot\; tips on how to create great bbq. It will be hands on learning experience with a tour of the kitchen and use of our smoker. We will be smoking ribs\, brisket\, and pork. Everyone will have bbq to take home with them plus some of our rubs and bbq sauce!&nbsp\;</span><span style="color: rgb(15\, 15\, 15)\;">Sunday\, May 3rd&nbsp\;from 12pm-2pm.</span></span></span>
LOCATION:6 N Pennsylvania Ave Bethany Beach\, DE 19930
UID:e.2126.20282
SEQUENCE:3
DTSTAMP:20260425T194258Z
URL:http://business.thequietresorts.com/events/details/bbq-cooking-class-bethany-blues-20282
END:VEVENT

END:VCALENDAR
