BEGIN:VCALENDAR
VERSION:2.0
PRODID:-//ChamberMaster//Event Calendar 2.0//EN
METHOD:PUBLISH
X-PUBLISHED-TTL:P3D
REFRESH-INTERVAL:P3D
CALSCALE:GREGORIAN
BEGIN:VEVENT
DTSTART:20200123T000000Z
DTEND:20200123T010000Z
X-MICROSOFT-CDO-ALLDAYEVENT:FALSE
SUMMARY:Barefoot in Fenwick: Life on the Isle in the 19th and 20th Centuries
DESCRIPTION:"Barefoot in Fenwick: Life on the Isle in the 19th and 20th Centuries" is the topic of educator and author\, Dr. Kimberly Grimes' public lecture at the Ocean View Town Hall on Wednesday\, January 22 at 7:00 pm. A Fenwick native\, Dr. Grimes will talk about Fenwick's beginnings as a Camp Meeting\, and its colorful past of land disputes between Maryland and Delaware. The lecture is free for Ocean View Historical Society members and $5 for others. The lecture is sponsored by the Coastal Towns Historic Village in Ocean View. Light refreshments will be served and free parking is available in the Ocean View town lots.
X-ALT-DESC;FMTTYPE=text/html:<span style="font-family: arial\;"><span style="font-size: 14px\;">&quot\;Barefoot in Fenwick: Life on the Isle in the 19th and 20th Centuries&quot\; is the topic of educator and author\, Dr. Kimberly Grimes&#39\; public lecture at the Ocean View Town Hall on Wednesday\, January 22 at 7:00 pm. A Fenwick native\, Dr. Grimes will talk about Fenwick&#39\;s beginnings as a Camp Meeting\, and its colorful past of land disputes between Maryland and Delaware. The lecture is free for Ocean View Historical Society members and $5 for others. The lecture is sponsored by the Coastal Towns Historic Village in Ocean View. Light refreshments will be served and free parking is available in the Ocean View town lots.</span></span>
LOCATION:Ocean View Town Hall 201 Central Ave Ocean View\, DE 19970
UID:e.2126.19661
SEQUENCE:3
DTSTAMP:20260426T020924Z
URL:http://business.thequietresorts.com/events/details/barefoot-in-fenwick-life-on-the-isle-in-the-19th-and-20th-centuries-19661
END:VEVENT

END:VCALENDAR
