BEGIN:VCALENDAR
VERSION:2.0
PRODID:-//ChamberMaster//Event Calendar 2.0//EN
METHOD:PUBLISH
X-PUBLISHED-TTL:P3D
REFRESH-INTERVAL:P3D
CALSCALE:GREGORIAN
BEGIN:VEVENT
DTSTART:20231207T203000Z
DTEND:20231207T220000Z
X-MICROSOFT-CDO-ALLDAYEVENT:FALSE
SUMMARY:Banks Wines & Spirits Vault Grand Opening & Ribbon Cutting
DESCRIPTION:Join the Bethany-Fenwick Area Chamber of Commerce on Thursday\, December 7th\, to celebrate the grand opening of the Vault at Banks Wines & Spirits!  Plan your next birthday party\, company event\, drink tasting and more in this beautiful new addition to the store.  The event starts at 3:30pm\, with the ribbon to be cut at 4:00pm!  Celebration doesn't stop at 4:00pm though\, as the official event will end at 5:00pm.  \n\n\n\nBanks will be providing refreshments\, samples of Dewey Beer\, champagne\, and scotch as well as free swag!  There will also be bottle engraving onsite from 3:00pm - 7:00pm!  Stop by after work to see the renovations\, network with local businesses and community members\, and start your holiday gift shopping!
X-ALT-DESC;FMTTYPE=text/html:<span style="font-size: 10pt\; line-height: 107%\; font-family: Arial\, sans-serif\; background-image: initial\; background-position: initial\; background-size: initial\; background-repeat: initial\; background-attachment: initial\; background-origin: initial\; background-clip: initial\;">Join the Bethany-Fenwick Area Chamber of Commerce on Thursday\, December 7th\, to celebrate the grand opening of the Vault at Banks Wines &amp\; Spirits!&nbsp\; Plan your next birthday party\, company event\, drink tasting and more in this beautiful new addition to the store.&nbsp\; The event starts at 3:30pm\, with the ribbon to be cut at 4:00pm!&nbsp\; Celebration doesn&#39\;t stop at 4:00pm though\, as the official event will end at 5:00pm.&nbsp\;&nbsp\;<br />\n<br />\nBanks will be providing refreshments\, samples of Dewey Beer\, champagne\, and scotch as well as free swag!&nbsp\; There will also be bottle engraving onsite from 3:00pm - 7:00pm!&nbsp\; Stop by after work to see the renovations\, network with local businesses and community members\, and start your holiday gift shopping!</span>
LOCATION:Banks Wines & Spirits 38014 Town Center Drive Millville\, DE 19967
UID:e.2126.27145
SEQUENCE:3
DTSTAMP:20260420T165224Z
URL:http://business.thequietresorts.com/events/details/banks-wines-spirits-vault-grand-opening-ribbon-cutting-27145
END:VEVENT

END:VCALENDAR
