BEGIN:VCALENDAR
VERSION:2.0
PRODID:-//ChamberMaster//Event Calendar 2.0//EN
METHOD:PUBLISH
X-PUBLISHED-TTL:P3D
REFRESH-INTERVAL:P3D
CALSCALE:GREGORIAN
BEGIN:VEVENT
DTSTART:20220628T200000Z
DTEND:20220628T220000Z
X-MICROSOFT-CDO-ALLDAYEVENT:FALSE
SUMMARY:Banks Wines & Spirits Ribbon Cutting & Tasting
DESCRIPTION:Join the staff at Banks Wines and Spirts as they celebrate their parking lot improvements and new warehouse space on Tuesday\, June 28 at 4:00pm. \n\n\n\nBanks Wines & Spirits will be raffling off a solo stove along with three additional prizes. Grab a free taco or two from Taco Reho between 3:30 -6:30 and wash it down with some tastings from Banks Wines and Spirits.
X-ALT-DESC;FMTTYPE=text/html:<span style="color: rgb(37\, 32\, 26)\; font-family: arial\; font-size: 14px\;">Join the staff at Banks Wines and Spirts as they celebrate their&nbsp\;</span><span style="font-size:14px\;"><span style="font-family:arial\;">parking lot improvements and new warehouse space&nbsp\;</span></span><span style="color: rgb(37\, 32\, 26)\; font-family: arial\; font-size: 14px\;">on Tuesday\, June 28 at 4:00pm.&nbsp\;</span><br />\n<br />\n<span style="font-size:14px\;"><span style="font-family:arial\;">Banks Wines &amp\; Spirits will be raffling off a solo stove along with three additional prizes. Grab a free taco or two from Taco Reho between 3:30 -6:30 and wash it down with some tastings from Banks Wines and Spirits.&nbsp\;&nbsp\;</span></span>
LOCATION:Banks Wines & Spirits 38014 Town Center Drive Millville\, DE 19967 (302) 537-8008 www.bankswinesandspirits.com
UID:e.2126.23719
SEQUENCE:3
DTSTAMP:20260422T001023Z
URL:http://business.thequietresorts.com/events/details/banks-wines-spirits-ribbon-cutting-tasting-23719
END:VEVENT

END:VCALENDAR
