BEGIN:VCALENDAR
VERSION:2.0
PRODID:-//ChamberMaster//Event Calendar 2.0//EN
METHOD:PUBLISH
X-PUBLISHED-TTL:P3D
REFRESH-INTERVAL:P3D
CALSCALE:GREGORIAN
BEGIN:VEVENT
DTSTART:20230213T190000Z
DTEND:20230213T220000Z
X-MICROSOFT-CDO-ALLDAYEVENT:FALSE
SUMMARY:Banks Wines & Spirits: 20th Anniversary Celebration
DESCRIPTION:Banks Wine and Spirits is turning 20! You are invited to come celebrate with us on Monday\, February 13th\, 2:00 p.m. - 5:00 p.m. Light refreshments will be served - please RSVP. \n\n\n\nSelected single barrels collaborated with local breweries\, distillers\, and winemakers will be on site for tastings and engravings.\n\n\n\nContact Banks Wines & Spirits to RSVP
X-ALT-DESC;FMTTYPE=text/html:Banks Wine and Spirits is turning 20! You are invited to come celebrate with us on Monday\, February 13th\, 2:00 p.m. - 5:00 p.m. Light refreshments will be served - please RSVP.&nbsp\;<br />\n<br />\nSelected single barrels collaborated with local breweries\, distillers\, and winemakers will be on site for tastings and engravings.<br />\n<br />\n<a href="https://bankswinesandspirits.com/pages/contact-us">Contact Banks Wines &amp\; Spirits to RSVP</a><br />\n<br />\n&nbsp\;
LOCATION:Banks Wines and Spirits 38014 Town Center Drive Millville\, DE 19976
UID:e.2126.25146
SEQUENCE:3
DTSTAMP:20260421T073704Z
URL:http://business.thequietresorts.com/events/details/banks-wines-spirits-20th-anniversary-celebration-25146
END:VEVENT

END:VCALENDAR
