BEGIN:VCALENDAR
VERSION:2.0
PRODID:-//ChamberMaster//Event Calendar 2.0//EN
METHOD:PUBLISH
X-PUBLISHED-TTL:P3D
REFRESH-INTERVAL:P3D
CALSCALE:GREGORIAN
BEGIN:VEVENT
DTSTART:20230601T160000Z
DTEND:20230601T173000Z
X-MICROSOFT-CDO-ALLDAYEVENT:FALSE
SUMMARY:Bank of Ocean City Selbyville Location Grand Opening & Ribbon Cutting
DESCRIPTION:Join the Chamber staff in celebrating the Grand Opening of Bank of Ocean City's Selbyville location with a ribbon cutting on Thursday\, June 1\, 2023.  The bank will be celebrating all day\, from 9:00am to 4:00pm\, with the ribbon to be cut at 12:30pm!  Stop by from 9am - 12pm for free onsite shredding\, in addition to all day door prizes and raffle drawings\, and lunch provided by Doyle's Restaurant around 12pm.
X-ALT-DESC;FMTTYPE=text/html:<span style="color: rgb(51\, 51\, 51)\; font-family: sans-serif\, Arial\, Verdana\, &quot\;Trebuchet MS&quot\;\; font-size: 13px\; background-color: rgb(255\, 255\, 255)\;">Join the Chamber staff in celebrating the Grand Opening of Bank of Ocean City&#39\;s Selbyville location with a ribbon cutting on Thursday\, June 1\, 2023.&nbsp\; The bank will be celebrating all day\, from 9:00am to 4:00pm\, with the ribbon to be cut at 12:30pm!&nbsp\; Stop by from 9am - 12pm for free onsite shredding\, in addition to all day door prizes and raffle drawings\, and lunch provided by Doyle&#39\;s Restaurant around 12pm.</span><br />\n&nbsp\;
LOCATION:Bank of Ocean City - Selbyville Branch 38227 Dupont Highway Selbyville\, DE 19975
UID:e.2126.25575
SEQUENCE:3
DTSTAMP:20260421T005304Z
URL:http://business.thequietresorts.com/events/details/bank-of-ocean-city-selbyville-location-grand-opening-ribbon-cutting-25575
END:VEVENT

END:VCALENDAR
