BEGIN:VCALENDAR
VERSION:2.0
PRODID:-//ChamberMaster//Event Calendar 2.0//EN
METHOD:PUBLISH
X-PUBLISHED-TTL:P3D
REFRESH-INTERVAL:P3D
CALSCALE:GREGORIAN
BEGIN:VEVENT
DTSTART:20230628T220000Z
DTEND:20230628T230000Z
X-MICROSOFT-CDO-ALLDAYEVENT:FALSE
SUMMARY:Baltimore Children's Choir
DESCRIPTION:St. Martha's welcomes back the Baltimore Children's Choir to once again share their joyous voices with our local community.  They will perform music from a variety of genres ranging from classical music to multicultural selections to spirituals.
X-ALT-DESC;FMTTYPE=text/html:<span style="font-family:tahoma"><span style="font-size:14px">St. Martha&#39\;s welcomes back the Baltimore Children&#39\;s Choir to once again share their joyous voices with our local community.&nbsp\; They will perform music from a variety of genres ranging from classical music to multicultural selections to spirituals.&nbsp\;</span></span> &nbsp\;
LOCATION:St. Martha's Episcopal Church 117 Maplewood Street Bethany Beach\, DE 19930
UID:e.2126.25908
SEQUENCE:3
DTSTAMP:20260421T004619Z
URL:http://business.thequietresorts.com/events/details/baltimore-children-s-choir-25908
END:VEVENT

END:VCALENDAR
