BEGIN:VCALENDAR
VERSION:2.0
PRODID:-//ChamberMaster//Event Calendar 2.0//EN
METHOD:PUBLISH
X-PUBLISHED-TTL:P3D
REFRESH-INTERVAL:P3D
CALSCALE:GREGORIAN
BEGIN:VEVENT
DTSTART:20240525T130000Z
DTEND:20240525T170000Z
X-MICROSOFT-CDO-ALLDAYEVENT:FALSE
SUMMARY:Bake and Book Sale at St. Martha's
DESCRIPTION:Join St. Martha's for our annual Memorial Day Weekend Bake and Book Sale on Saturday\, May 25th from 9 am to 1 pm!  Dive into a delightful selection of homemade treats and literary treasures as we kick off the summer with this beloved tradition.  Whether you're craving mouthwatering pastries or searching for your next favorite read\, there's something for everyone at our event.  Don't miss out on the chance to indulge in delicious goodies and discover new stories - see you there!
X-ALT-DESC;FMTTYPE=text/html:Join St. Martha&#39\;s for our annual Memorial Day Weekend Bake and Book Sale on Saturday\, May 25th from 9 am to 1 pm!&nbsp\; Dive into a delightful selection of homemade treats and literary treasures as we kick off the summer with this beloved tradition.&nbsp\; Whether you&#39\;re craving mouthwatering pastries or searching for your next favorite read\, there&#39\;s something for everyone at our event.&nbsp\; Don&#39\;t miss out on the chance to indulge in delicious goodies and discover new stories - see you there!
LOCATION:St. Martha's Episcopal Church 117 Maplewood Street Bethany Beach\, DE 19930
UID:e.2126.29301
SEQUENCE:3
DTSTAMP:20260420T042054Z
URL:http://business.thequietresorts.com/events/details/bake-and-book-sale-at-st-martha-s-29301
END:VEVENT

END:VCALENDAR
