BEGIN:VCALENDAR
VERSION:2.0
PRODID:-//ChamberMaster//Event Calendar 2.0//EN
METHOD:PUBLISH
X-PUBLISHED-TTL:P3D
REFRESH-INTERVAL:P3D
CALSCALE:GREGORIAN
BEGIN:VEVENT
DTSTART:20240629T230000Z
DTEND:20240630T020000Z
X-MICROSOFT-CDO-ALLDAYEVENT:FALSE
SUMMARY:Back To The Eighties Show with Jessie’s Girl at Freeman Performing Arts
DESCRIPTION:Tickets are $29+fees\n\nChildren 12 and under do not require a ticket and are free to attend.\n\nBack To The Eighties Show with Jessie's Girl is the world's greatest tribute to the music of the '80s! Jessie's Girl's primary line-up includes a team of NYC's top rock and pop vocalists: Jenna O'Gara\, Jerome Bell-Bastien\, and Mark Rinzel. They are backed by one of the tightest bands in the city comprised of 20+ year veterans of the NYC music scene: Eric Presti on guitar\, Drew Mortali on bass\, Michael Maenza on drums\, and Karlee Bloom on keys and keytar. Each with dozens of credits performing with authentic '80s icons who made the music famous to begin with!\n\nIn fact\, Bret Michaels\, MC Hammer\, Colin Hay from Men at Work\, Tiffany\, Debbie Gibson\, Taylor Dane\, Mike Score from A Flock of Seagulls\, Tone Loc\, Rob Base\, and many more have all performed at the Back To The Eighties Show.\n\nTheir calendar is filled with high-profile appearances and private events around the U.S.\, bringing the Back To The Eighties Show to The Theater at Madison Square Garden for the I Want My '80s Concert\, ABC / NY Magazine's launch party for The Goldbergs\, a Halloween bash with Academy Award winner Jamie Foxx\, a private birthday party for '80s icon Neil Patrick Harris and Coca Cola / Buffalo Wild Wings' massive "Tablegate" event in Tempe\, AZ\, opening for Smash Mouth!\n\nThe band has continuously sold out nights at prestigious regional venues such as The Capitol Theatre in Westchester\, NY\, The Paramount on Long Island\, the Count Basie Center for the Arts in Red Bank\, NJ\, Penn's Peak in Jim Thorpe\, PA\, and many other venues. They are the only band to play every year on The '80s Cruise and have firmed a deal to continue performing through 2024.
X-ALT-DESC;FMTTYPE=text/html:<p><strong>Tickets are $29+fees</strong></p>\n\n<p><em>Children 12 and under do not require a ticket and are free to attend.</em></p>\n\n<p>Back To The Eighties Show with Jessie&rsquo\;s Girl is the world&rsquo\;s greatest tribute to the music of the &lsquo\;80s! Jessie&rsquo\;s Girl&rsquo\;s primary line-up includes a team of NYC&#39\;s top rock and pop vocalists: Jenna O&rsquo\;Gara\, Jerome Bell-Bastien\, and Mark Rinzel. They are backed by one of the tightest bands in the city comprised of 20+ year veterans of the NYC music scene: Eric Presti on guitar\, Drew Mortali on bass\, Michael Maenza on drums\, and Karlee Bloom on keys and keytar. Each with dozens of credits performing with authentic &lsquo\;80s icons who made the music famous to begin with!</p>\n\n<p>In fact\, Bret Michaels\, MC Hammer\, Colin Hay from Men at Work\, Tiffany\, Debbie Gibson\, Taylor Dane\, Mike Score from A Flock of Seagulls\, Tone Loc\, Rob Base\, and many more have all performed at the Back To The Eighties Show.</p>\n\n<p>Their calendar is filled with high-profile appearances and private events around the U.S.\, bringing the Back To The Eighties Show to The Theater at Madison Square Garden for the I Want My &lsquo\;80s Concert\, ABC / NY Magazine&rsquo\;s launch party for The Goldbergs\, a Halloween bash with Academy Award winner Jamie Foxx\, a private birthday party for &lsquo\;80s icon Neil Patrick Harris and Coca Cola / Buffalo Wild Wings&rsquo\; massive &ldquo\;Tablegate&rdquo\; event in Tempe\, AZ\, opening for Smash Mouth!</p>\n\n<p>The band has continuously sold out nights at prestigious regional venues such as The Capitol Theatre in Westchester\, NY\, The Paramount on Long Island\, the Count Basie Center for the Arts in Red Bank\, NJ\, Penn&rsquo\;s Peak in Jim Thorpe\, PA\, and many other venues. They are the only band to play every year on The &lsquo\;80s Cruise and have firmed a deal to continue performing through 2024.</p>\n
LOCATION:Freeman Arts Pavilion 31806 Lakeview Drive Selbyville\, DE 19975
UID:e.2126.28633
SEQUENCE:3
DTSTAMP:20260420T091746Z
URL:http://business.thequietresorts.com/events/details/back-to-the-eighties-show-with-jessie-s-girl-at-freeman-performing-arts-28633
END:VEVENT

END:VCALENDAR
