BEGIN:VCALENDAR
VERSION:2.0
PRODID:-//ChamberMaster//Event Calendar 2.0//EN
METHOD:PUBLISH
X-PUBLISHED-TTL:P3D
REFRESH-INTERVAL:P3D
CALSCALE:GREGORIAN
BEGIN:VEVENT
DTSTART:20191216T230000Z
DTEND:20191217T020000Z
X-MICROSOFT-CDO-ALLDAYEVENT:FALSE
SUMMARY:B-I-N-G-O at The Salted Rim
DESCRIPTION:B-I-N-G-O\n\n6 pm\n\nThe Salted Rim in Ocean View\, DE\n\nwith DJ Rupe\n\nEvery Monday starting August 16\, 2019\n\n \n\nTV drawing and give-away Monday\, December 16\, 2019\n\nFree to Play              Must be 21\n\n$25 Salted Rim Gift Card awarded each week\n\n \n\nCome join us for B-I-N-G-O every Monday at 6:00 pm.  Sign in each week for an entry into the contest.  The more weeks you participate the greater your chances of winning!\n\n\n\nMust be present to win on Monday\, December 16th. One entry per week per person. Must be present and play to sign in each week.\n\n \n\nSpecials During BiNGO\n\n4-9pm\n\nAll-You-Can-Eat Tacos   $11\n\n(fish-chicken-beef)\n\nNFL Specials - During All Pro Games\n\n \n\nVisit our website http://saltedrimde.com and check out all of our events including Karaoke on Tuesday's\, Mingo on Wednesday's and Trivia on Thursday's.\n\n\n\nHope to see your there!!
X-ALT-DESC;FMTTYPE=text/html:<div style="text-align: center\;"><span style="font-size: 14px\;"><span style="font-family: arial\;"><strong><span style="font-size: 20px\;"><span style="color: rgb(0\, 0\, 205)\;">B-I-N-G-O</span></span><br />\n6 pm<br />\nThe Salted Rim in Ocean View\, DE<br />\nwith DJ Rupe<br />\nEvery Monday starting August 16\, 2019</strong></span></span><br />\n&nbsp\;</div>\n\n<div style="text-align: center\;"><span style="font-size: 14px\;"><span style="font-family: arial\;"><strong>TV drawing and give-away Monday\, December 16\, 2019</strong></span></span></div>\n\n<div style="text-align: center\;"><span style="font-size: 14px\;"><span style="font-family: arial\;"><strong>Free to Play&nbsp\; &nbsp\; &nbsp\; &nbsp\; &nbsp\; &nbsp\; &nbsp\; Must be 21<br />\n$25 Salted Rim Gift Card awarded each week</strong></span></span><br />\n&nbsp\;</div>\n\n<div><span style="font-size: 14px\;"><span style="font-family: arial\;">Come join us for B-I-N-G-O every Monday at 6:00 pm.&nbsp\; Sign in each week for an entry into the contest.&nbsp\; The more weeks you participate the greater your chances of winning!<br />\n<br />\nMust be present to win on Monday\, December 16th. One entry per week per person. Must be present and play to sign in each week.</span></span><br />\n&nbsp\;</div>\n\n<div style="text-align: center\;"><span style="font-size: 16px\;"><strong><span style="color: rgb(0\, 0\, 255)\;">Specials During BiNGO</span><br />\n<span style="font-size: 12px\;">4-9pm</span><br />\n<span style="color: rgb(0\, 0\, 255)\;"><span style="font-size: 14px\;">All-You-Can-Eat Tacos&nbsp\; &nbsp\;$11<br />\n<span style="font-size: 11px\;">(fish-chicken-beef)</span><br />\nNFL Specials - During All Pro Games</span></span></strong></span><br />\n&nbsp\;</div>\n\n<div><span style="font-size: 14px\;"><span style="font-family: arial\;">Visit our website <a href="http://saltedrimde.com">http://saltedrimde.com</a>&nbsp\;and check out all of our events including Karaoke on Tuesday&#39\;s\, Mingo on Wednesday&#39\;s and Trivia on Thursday&#39\;s.</span></span></div>\n\n<div><br />\n<span style="font-size: 14px\;"><span style="font-family: arial\;"><strong><span style="color: rgb(0\, 0\, 0)\;">Hope to see your there!!</span></strong></span></span></div>\n\n<div>&nbsp\;</div>\n\n<div><br />\n&nbsp\;</div>\n\n<div style="text-align: center\;">&nbsp\;</div>\n
LOCATION:The Salted Rim 27 Atlantic Avenue Ocean View\, DE 19970 302-537-7373
UID:e.2126.17224
SEQUENCE:3
DTSTAMP:20260426T034611Z
URL:http://business.thequietresorts.com/events/details/b-i-n-g-o-at-the-salted-rim-12-16-2019-17224
END:VEVENT

END:VCALENDAR
