BEGIN:VCALENDAR
VERSION:2.0
PRODID:-//ChamberMaster//Event Calendar 2.0//EN
METHOD:PUBLISH
X-PUBLISHED-TTL:P3D
REFRESH-INTERVAL:P3D
CALSCALE:GREGORIAN
BEGIN:VEVENT
DTSTART:20211013T160000Z
DTEND:20211013T170000Z
X-MICROSOFT-CDO-ALLDAYEVENT:FALSE
SUMMARY:Avery Hall Insurance: Turning 65 Medicare Webinar with Alyssa Sinagra
DESCRIPTION:Turning 65 and getting overwhelmed by Medicare Advertisements? On 10/13\, 11/10\, and 12/8\, from 12pm-1pm\, Avery Hall Insurance will be hosting a virtual educational webinar about Medicare. Join Alyssa Sinagra to find out all you need to know about Medicare\, for FREE! To register please visit https://averyhallturning65.eventbrite.com or contact Karen Bromley at 410-742-5111 or kbromley@averyhall.com.
X-ALT-DESC;FMTTYPE=text/html:<span style="font-size:14px\;"><span style="font-family:arial\;">Turning 65 and getting overwhelmed by Medicare Advertisements? On 10/13\, 11/10\, and 12/8\, from 12pm-1pm\, Avery Hall Insurance will be hosting a virtual educational webinar about Medicare. Join Alyssa Sinagra to find out all you need to know about Medicare\, for FREE! To register please visit https://averyhallturning65.eventbrite.com or contact Karen Bromley at 410-742-5111 or kbromley@averyhall.com.</span></span>
LOCATION:https://averyhallturning65.eventbrite.com
UID:e.2126.22972
SEQUENCE:3
DTSTAMP:20260424T134948Z
URL:http://business.thequietresorts.com/events/details/avery-hall-insurance-turning-65-medicare-webinar-with-alyssa-sinagra-22972
END:VEVENT

END:VCALENDAR
