BEGIN:VCALENDAR
VERSION:2.0
PRODID:-//ChamberMaster//Event Calendar 2.0//EN
METHOD:PUBLISH
X-PUBLISHED-TTL:P3D
REFRESH-INTERVAL:P3D
CALSCALE:GREGORIAN
BEGIN:VEVENT
DTSTART:20240625T190000Z
DTEND:20240625T210000Z
X-MICROSOFT-CDO-ALLDAYEVENT:FALSE
SUMMARY:Avery Hall Insurance Selbyville Office Grand Opening Ribbon Cutting
DESCRIPTION:Join the Bethany-Fenwick Area Chamber of Commerce on Tuesday\, June 25th\, for a ribbon cutting ceremony celebrating the grand opening of Avery Hall Insurance's new office in Selbyville.  The event will start at 3:00 PM with the ribbon to be cut at 4:00 PM!  End your workday with light refreshments\, networking with other chamber members\, and meeting the Avery Hall team.  They will also have live music during the event!\n\n\n\nAvery Hall Insurance has offices in Milton\, Seaford\, Salisbury\, and Easton!  They offer a full range of benefits solutions for individuals and employees\, commercial insurance\, and personal insurance.
X-ALT-DESC;FMTTYPE=text/html:Join the Bethany-Fenwick Area Chamber of Commerce on Tuesday\, June 25th\, for a ribbon cutting ceremony celebrating the grand opening of Avery Hall Insurance&#39\;s new office in Selbyville.&nbsp\; The event will start at 3:00 PM with the ribbon to be cut at 4:00 PM!&nbsp\; End your workday with light refreshments\, networking with other chamber members\, and meeting the Avery Hall team. &nbsp\;They will also have live music during the event!<br />\n<br />\nAvery Hall Insurance has offices in Milton\, Seaford\, Salisbury\, and Easton!&nbsp\; They offer a full range of benefits solutions for individuals and employees\, commercial insurance\, and personal insurance.&nbsp\;
LOCATION:33195 Lighthouse Rd. Selbyville\, DE 19975
UID:e.2126.29923
SEQUENCE:3
DTSTAMP:20260420T092726Z
URL:http://business.thequietresorts.com/events/details/avery-hall-insurance-selbyville-office-grand-opening-ribbon-cutting-29923
END:VEVENT

END:VCALENDAR
