BEGIN:VCALENDAR
VERSION:2.0
PRODID:-//ChamberMaster//Event Calendar 2.0//EN
METHOD:PUBLISH
X-PUBLISHED-TTL:P3D
REFRESH-INTERVAL:P3D
CALSCALE:GREGORIAN
BEGIN:VEVENT
DTSTART:20230603T113000Z
DTEND:20230603T140000Z
X-MICROSOFT-CDO-ALLDAYEVENT:FALSE
SUMMARY:AUCE Pancake Breakfast
DESCRIPTION:Indian River HS Leo's Club &\n\nFenwick Island Lions Club\n\n2023 Pancake Breakfast\n\n\n\nALL-U-CARE-TO-EAT\n\n\n\nSaturday\, June 3rd\n\n7:30 am - 10:00 am\n\n\n\nWhere:  The Salted Rim\, 35553 Atlantic Avenue\, Millville\, DE\n\n\n\nPancakes\, sausage\, scrambled eggs\, & juice\, coffee\n\n\n\nAdults - $12.00\n\nChildren - $6.00  (ages 3-10)\n\n\n\nTickets:  Buy at the door or from a\n\nFenwick Island Lions Club Member\n\nYou can pay with Zelle!
X-ALT-DESC;FMTTYPE=text/html:<div style="text-align: center\;"><span style="font-size:14px"><span style="font-family:tahoma">Indian River HS Leo&#39\;s Club &amp\;<br />\nFenwick Island Lions Club</span></span><br />\n<span style="color:#FF0000"><strong><em><span style="font-size:18px"><span style="font-family:arial\,helvetica\,sans-serif">2023 Pancake Breakfast</span></span></em></strong></span><br />\n<br />\nALL-U-CARE-TO-EAT<br />\n<br />\n<span style="color:#000000"><strong><span style="font-family:comic sans ms"><span style="font-size:14px">Saturday\, June 3rd</span></span></strong></span><br />\n7:30 am - 10:00 am<br />\n<br />\n<em><span style="font-family:verdana">Where:&nbsp\; The Salted Rim\, 35553 Atlantic Avenue\, Millville\, DE</span></em><br />\n<br />\nPancakes\, sausage\, scrambled eggs\, &amp\; juice\, coffee<br />\n<br />\nAdults - $12.00<br />\nChildren - $6.00&nbsp\; (ages 3-10)<br />\n<br />\n<span style="font-size:14px"><span style="color:#FF0000"><strong>Tickets</strong></span>:&nbsp\; Buy at the door or from a<br />\nFenwick Island Lions Club Member<br />\nYou can pay with Zelle!</span></div>\n<br />\n&nbsp\;
LOCATION:The Salted Rim Margarita Bar & Grille 35553 Atlantic Avenue Millville\, DE 19967 302-537-7373
UID:e.2126.25869
SEQUENCE:3
DTSTAMP:20260421T004503Z
URL:http://business.thequietresorts.com/events/details/auce-pancake-breakfast-25869
END:VEVENT

END:VCALENDAR
